BEGIN:VCALENDAR
VERSION:2.0
PRODID:-//Dave Landau - ECPv6.15.18//NONSGML v1.0//EN
CALSCALE:GREGORIAN
METHOD:PUBLISH
X-WR-CALNAME:Dave Landau
X-ORIGINAL-URL:https://davelandau.com
X-WR-CALDESC:Events for Dave Landau
REFRESH-INTERVAL;VALUE=DURATION:PT1H
X-Robots-Tag:noindex
X-PUBLISHED-TTL:PT1H
BEGIN:VTIMEZONE
TZID:UTC
BEGIN:STANDARD
TZOFFSETFROM:+0000
TZOFFSETTO:+0000
TZNAME:UTC
DTSTART:20210101T000000
END:STANDARD
END:VTIMEZONE
BEGIN:VEVENT
DTSTART;VALUE=DATE:20221216
DTEND;VALUE=DATE:20221218
DTSTAMP:20260420T231410
CREATED:20220924T024357Z
LAST-MODIFIED:20220924T024357Z
UID:1198-1671148800-1671321599@davelandau.com
SUMMARY:Syracuse\, NY
DESCRIPTION:@ The Funny Bone
URL:https://davelandau.com/event/syracuse-ny-2/
CATEGORIES:Dave Appearances
END:VEVENT
BEGIN:VEVENT
DTSTART;VALUE=DATE:20221230
DTEND;VALUE=DATE:20230101
DTSTAMP:20260420T231410
CREATED:20220708T140323Z
LAST-MODIFIED:20220708T140323Z
UID:1162-1672358400-1672531199@davelandau.com
SUMMARY:Toledo\, OH (Perrysburg)
DESCRIPTION:@The Funnybone
URL:https://davelandau.com/event/toledo-oh-perrysburg/
CATEGORIES:Dave Appearances
END:VEVENT
BEGIN:VEVENT
DTSTART;VALUE=DATE:20230107
DTEND;VALUE=DATE:20230108
DTSTAMP:20260420T231410
CREATED:20230102T172324Z
LAST-MODIFIED:20230102T172324Z
UID:1301-1673049600-1673135999@davelandau.com
SUMMARY:Capac\, MI
DESCRIPTION:@Holly Meadows Golf Course
URL:https://davelandau.com/event/capac-mi/
CATEGORIES:Dave Appearances
END:VEVENT
BEGIN:VEVENT
DTSTART;VALUE=DATE:20230111
DTEND;VALUE=DATE:20230112
DTSTAMP:20260420T231410
CREATED:20230102T201539Z
LAST-MODIFIED:20230104T054458Z
UID:1305-1673395200-1673481599@davelandau.com
SUMMARY:Hollywood\, CA
DESCRIPTION:Comedy Chaos with Sam Tripoli @The Comedy Store
URL:https://davelandau.com/event/comedy-chaos-w-sam-tripoli-the-hollywood-comedy-store/
CATEGORIES:Dave Appearances
END:VEVENT
BEGIN:VEVENT
DTSTART;VALUE=DATE:20230113
DTEND;VALUE=DATE:20230115
DTSTAMP:20260420T231410
CREATED:20221216T180129Z
LAST-MODIFIED:20221216T180129Z
UID:1263-1673568000-1673740799@davelandau.com
SUMMARY:Spokane\, WA
DESCRIPTION:@ Spokane Comedy Club
URL:https://davelandau.com/event/spokane-wa-2/
CATEGORIES:Dave Appearances
END:VEVENT
BEGIN:VEVENT
DTSTART;VALUE=DATE:20230120
DTEND;VALUE=DATE:20230122
DTSTAMP:20260420T231410
CREATED:20221217T031243Z
LAST-MODIFIED:20230103T011044Z
UID:1266-1674172800-1674345599@davelandau.com
SUMMARY:Denver\, CO @ The Improv
DESCRIPTION:@ The Denver Improv
URL:https://davelandau.com/event/denver-co-2/
CATEGORIES:Dave Appearances
END:VEVENT
BEGIN:VEVENT
DTSTART;VALUE=DATE:20230127
DTEND;VALUE=DATE:20230129
DTSTAMP:20260420T231410
CREATED:20221218T155337Z
LAST-MODIFIED:20221218T155337Z
UID:1270-1674777600-1674950399@davelandau.com
SUMMARY:Cleveland\, OH
DESCRIPTION:@ Hilarities
URL:https://davelandau.com/event/cleveland-oh-3/
CATEGORIES:Dave Appearances
END:VEVENT
BEGIN:VEVENT
DTSTART;VALUE=DATE:20230203
DTEND;VALUE=DATE:20230204
DTSTAMP:20260420T231410
CREATED:20221225T052408Z
LAST-MODIFIED:20221225T052408Z
UID:1291-1675382400-1675468799@davelandau.com
SUMMARY:Fort Walton\, Beach
DESCRIPTION:@ The Block
URL:https://davelandau.com/event/fort-walton-beach/
CATEGORIES:Dave Appearances
END:VEVENT
BEGIN:VEVENT
DTSTART;VALUE=DATE:20230211
DTEND;VALUE=DATE:20230212
DTSTAMP:20260420T231410
CREATED:20221225T053105Z
LAST-MODIFIED:20230113T203308Z
UID:1295-1676073600-1676159999@davelandau.com
SUMMARY:Muskegon\, MI
DESCRIPTION:@Frauenthal Center for the Performing Arts
URL:https://davelandau.com/event/muskegon-mi/
CATEGORIES:Dave Appearances
END:VEVENT
BEGIN:VEVENT
DTSTART;VALUE=DATE:20230217
DTEND;VALUE=DATE:20230219
DTSTAMP:20260420T231410
CREATED:20230102T192916Z
LAST-MODIFIED:20230102T193002Z
UID:1303-1676592000-1676764799@davelandau.com
SUMMARY:Key West\, FL
DESCRIPTION:@ Comedy Key West
URL:https://davelandau.com/event/key-west-fl/
CATEGORIES:Dave Appearances
END:VEVENT
BEGIN:VEVENT
DTSTART;VALUE=DATE:20230224
DTEND;VALUE=DATE:20230225
DTSTAMP:20260420T231410
CREATED:20230117T150352Z
LAST-MODIFIED:20230117T150352Z
UID:1342-1677196800-1677283199@davelandau.com
SUMMARY:Jim Thorpe\, PA
DESCRIPTION:@ Mauchchunk Opera House
URL:https://davelandau.com/event/jim-thorpe-pa/
CATEGORIES:Dave Appearances
END:VEVENT
BEGIN:VEVENT
DTSTART;VALUE=DATE:20230225
DTEND;VALUE=DATE:20230226
DTSTAMP:20260420T231410
CREATED:20230117T150938Z
LAST-MODIFIED:20230126T005613Z
UID:1344-1677283200-1677369599@davelandau.com
SUMMARY:Newtown\, PA
DESCRIPTION:@ The Newton Theatre
URL:https://davelandau.com/event/newton-pa/
CATEGORIES:Dave Appearances
END:VEVENT
BEGIN:VEVENT
DTSTART;VALUE=DATE:20230306
DTEND;VALUE=DATE:20230313
DTSTAMP:20260420T231410
CREATED:20230102T054024Z
LAST-MODIFIED:20230103T010955Z
UID:1299-1678060800-1678665599@davelandau.com
SUMMARY:Las Vegas\, NV @ The MGM Grand
DESCRIPTION:@ Brad Garrett’s Comedy Club inside The MGM Grand
URL:https://davelandau.com/event/las-vegas-nv-2/
CATEGORIES:Dave Appearances
END:VEVENT
BEGIN:VEVENT
DTSTART;VALUE=DATE:20230317
DTEND;VALUE=DATE:20230319
DTSTAMP:20260420T231410
CREATED:20230117T151134Z
LAST-MODIFIED:20230117T152221Z
UID:1347-1679011200-1679183999@davelandau.com
SUMMARY:Pasadena\, CA
DESCRIPTION:@ The Icehouse
URL:https://davelandau.com/event/pasadena-ca/
CATEGORIES:Dave Appearances
END:VEVENT
BEGIN:VEVENT
DTSTART;VALUE=DATE:20230324
DTEND;VALUE=DATE:20230326
DTSTAMP:20260420T231410
CREATED:20230103T010906Z
LAST-MODIFIED:20230103T010906Z
UID:1308-1679616000-1679788799@davelandau.com
SUMMARY:Greenville\, SC @ The Comedy Zone
DESCRIPTION:@ The Comedy Zone
URL:https://davelandau.com/event/greenville-sc-the-comedy-zone/
CATEGORIES:Dave Appearances
END:VEVENT
BEGIN:VEVENT
DTSTART;VALUE=DATE:20230401
DTEND;VALUE=DATE:20230402
DTSTAMP:20260420T231410
CREATED:20230103T011748Z
LAST-MODIFIED:20230311T063622Z
UID:1312-1680307200-1680393599@davelandau.com
SUMMARY:Appleton\, WI @ Skyline Comedy Club
DESCRIPTION:@ Skyline Comedy Club
URL:https://davelandau.com/event/appleton-wi-skyline-comedy-club/
CATEGORIES:Dave Appearances
END:VEVENT
BEGIN:VEVENT
DTSTART;VALUE=DATE:20230407
DTEND;VALUE=DATE:20230408
DTSTAMP:20260420T231410
CREATED:20230117T153203Z
LAST-MODIFIED:20230117T153203Z
UID:1350-1680825600-1680911999@davelandau.com
SUMMARY:Traverse City\, MI
DESCRIPTION:@ The Opera House
URL:https://davelandau.com/event/traverse-city-mi-2/
CATEGORIES:Dave Appearances
END:VEVENT
BEGIN:VEVENT
DTSTART;VALUE=DATE:20230408
DTEND;VALUE=DATE:20230409
DTSTAMP:20260420T231410
CREATED:20230103T014454Z
LAST-MODIFIED:20230103T014454Z
UID:1315-1680912000-1680998399@davelandau.com
SUMMARY:Canton\, MI @ Village Theatre
DESCRIPTION:@ The Village Theatre at Cherry Hill
URL:https://davelandau.com/event/canton-mi-village-theatre/
CATEGORIES:Dave Appearances
END:VEVENT
BEGIN:VEVENT
DTSTART;VALUE=DATE:20230414
DTEND;VALUE=DATE:20230416
DTSTAMP:20260420T231410
CREATED:20230203T052551Z
LAST-MODIFIED:20230203T052551Z
UID:1369-1681430400-1681603199@davelandau.com
SUMMARY:Hartford\, CT
DESCRIPTION:@ The Funny Bone
URL:https://davelandau.com/event/hartford-ct/
CATEGORIES:Dave Appearances
END:VEVENT
BEGIN:VEVENT
DTSTART;VALUE=DATE:20230421
DTEND;VALUE=DATE:20230423
DTSTAMP:20260420T231410
CREATED:20230117T153941Z
LAST-MODIFIED:20230117T153941Z
UID:1353-1682035200-1682207999@davelandau.com
SUMMARY:Oklahoma City\, OK
DESCRIPTION:@ Bricktown Comedy Club
URL:https://davelandau.com/event/oklahoma-city-ok-3/
CATEGORIES:Dave Appearances
END:VEVENT
BEGIN:VEVENT
DTSTART;VALUE=DATE:20230428
DTEND;VALUE=DATE:20230430
DTSTAMP:20260420T231410
CREATED:20230404T040246Z
LAST-MODIFIED:20230404T040246Z
UID:1392-1682640000-1682812799@davelandau.com
SUMMARY:Cuyahoga Falls\, OH
DESCRIPTION:@ The Funny Stop
URL:https://davelandau.com/event/cuyahoga-falls-oh-5/
CATEGORIES:Dave Appearances
END:VEVENT
BEGIN:VEVENT
DTSTART;VALUE=DATE:20230505
DTEND;VALUE=DATE:20230507
DTSTAMP:20260420T231410
CREATED:20230410T061947Z
LAST-MODIFIED:20230410T061947Z
UID:1397-1683244800-1683417599@davelandau.com
SUMMARY:Tacoma\, WA
DESCRIPTION:@ Tacoma Comedy Club
URL:https://davelandau.com/event/tacoma-wa-4/
CATEGORIES:Dave Appearances
END:VEVENT
BEGIN:VEVENT
DTSTART;VALUE=DATE:20230512
DTEND;VALUE=DATE:20230514
DTSTAMP:20260420T231410
CREATED:20230117T155054Z
LAST-MODIFIED:20230117T155054Z
UID:1360-1683849600-1684022399@davelandau.com
SUMMARY:Albany\, NY
DESCRIPTION:@ The Funny Bone
URL:https://davelandau.com/event/albany-ny-3/
CATEGORIES:Dave Appearances
END:VEVENT
BEGIN:VEVENT
DTSTART;VALUE=DATE:20230519
DTEND;VALUE=DATE:20230521
DTSTAMP:20260420T231410
CREATED:20230117T154748Z
LAST-MODIFIED:20230117T154748Z
UID:1357-1684454400-1684627199@davelandau.com
SUMMARY:Louisville\, KY
DESCRIPTION:@ The Louisville Comedy Club
URL:https://davelandau.com/event/louisville-ky/
CATEGORIES:Dave Appearances
END:VEVENT
BEGIN:VEVENT
DTSTART;VALUE=DATE:20230526
DTEND;VALUE=DATE:20230528
DTSTAMP:20260420T231410
CREATED:20230415T203929Z
LAST-MODIFIED:20230415T203929Z
UID:1405-1685059200-1685231999@davelandau.com
SUMMARY:West Nyack\, NY
DESCRIPTION:@ Levity Live/The Improv \n 
URL:https://davelandau.com/event/west-nyack-ny/
CATEGORIES:Dave Appearances
END:VEVENT
BEGIN:VEVENT
DTSTART;VALUE=DATE:20230602
DTEND;VALUE=DATE:20230604
DTSTAMP:20260420T231410
CREATED:20230410T203804Z
LAST-MODIFIED:20230410T203804Z
UID:1399-1685664000-1685836799@davelandau.com
SUMMARY:Buffalo\, NY
DESCRIPTION:@ Helium
URL:https://davelandau.com/event/buffalo-ny-3/
CATEGORIES:Dave Appearances
END:VEVENT
BEGIN:VEVENT
DTSTART;VALUE=DATE:20230609
DTEND;VALUE=DATE:20230611
DTSTAMP:20260420T231410
CREATED:20230424T090453Z
LAST-MODIFIED:20230424T090453Z
UID:1411-1686268800-1686441599@davelandau.com
SUMMARY:Dayton\, OH
DESCRIPTION:@ The Funny Bone
URL:https://davelandau.com/event/dayton-oh-2/
CATEGORIES:Dave Appearances
END:VEVENT
BEGIN:VEVENT
DTSTART;VALUE=DATE:20230616
DTEND;VALUE=DATE:20230618
DTSTAMP:20260420T231410
CREATED:20230117T154458Z
LAST-MODIFIED:20230117T154458Z
UID:1355-1686873600-1687046399@davelandau.com
SUMMARY:Austin\, TX
DESCRIPTION:@ Cap City Comedy Club
URL:https://davelandau.com/event/austin-tx/
CATEGORIES:Dave Appearances
END:VEVENT
BEGIN:VEVENT
DTSTART;VALUE=DATE:20230622
DTEND;VALUE=DATE:20230623
DTSTAMP:20260420T231410
CREATED:20230622T052545Z
LAST-MODIFIED:20230622T052545Z
UID:1512-1687392000-1687478399@davelandau.com
SUMMARY:Lexington\, MI
DESCRIPTION:@ Lexington Village Theater
URL:https://davelandau.com/event/lexington-mi/
CATEGORIES:Dave Appearances
END:VEVENT
BEGIN:VEVENT
DTSTART;VALUE=DATE:20230701
DTEND;VALUE=DATE:20230702
DTSTAMP:20260420T231410
CREATED:20230528T055027Z
LAST-MODIFIED:20230528T055027Z
UID:1488-1688169600-1688255999@davelandau.com
SUMMARY:Emily\, MN
DESCRIPTION:@ Big Al’s
URL:https://davelandau.com/event/emily-mn-3/
CATEGORIES:Dave Appearances
END:VEVENT
END:VCALENDAR