BEGIN:VCALENDAR
VERSION:2.0
PRODID:-//Dave Landau - ECPv6.15.18//NONSGML v1.0//EN
CALSCALE:GREGORIAN
METHOD:PUBLISH
X-WR-CALNAME:Dave Landau
X-ORIGINAL-URL:https://davelandau.com
X-WR-CALDESC:Events for Dave Landau
REFRESH-INTERVAL;VALUE=DURATION:PT1H
X-Robots-Tag:noindex
X-PUBLISHED-TTL:PT1H
BEGIN:VTIMEZONE
TZID:UTC
BEGIN:STANDARD
TZOFFSETFROM:+0000
TZOFFSETTO:+0000
TZNAME:UTC
DTSTART:20250101T000000
END:STANDARD
END:VTIMEZONE
BEGIN:VEVENT
DTSTART;VALUE=DATE:20260628
DTEND;VALUE=DATE:20260629
DTSTAMP:20260420T112438
CREATED:20260406T033930Z
LAST-MODIFIED:20260406T033930Z
UID:2571-1782604800-1782691199@davelandau.com
SUMMARY:Comedy Mothership in Austin\, TX
DESCRIPTION:@ Comedy Mothership
URL:https://davelandau.com/event/comedy-mothership-in-austin-tx-3/
CATEGORIES:Dave Appearances
END:VEVENT
BEGIN:VEVENT
DTSTART;VALUE=DATE:20260717
DTEND;VALUE=DATE:20260718
DTSTAMP:20260420T112438
CREATED:20260406T034527Z
LAST-MODIFIED:20260406T034527Z
UID:2573-1784246400-1784332799@davelandau.com
SUMMARY:Springfield\, MO @ Springfield Comedy Club
DESCRIPTION:@ Springfield Comedy Club
URL:https://davelandau.com/event/springfield-mo-springfield-comedy-club/
CATEGORIES:Dave Appearances
END:VEVENT
BEGIN:VEVENT
DTSTART;VALUE=DATE:20260718
DTEND;VALUE=DATE:20260719
DTSTAMP:20260420T112438
CREATED:20260406T034716Z
LAST-MODIFIED:20260406T034716Z
UID:2575-1784332800-1784419199@davelandau.com
SUMMARY:Springfield\, MO @ Springfield Comedy Club
DESCRIPTION:@ Springfield Comedy Club
URL:https://davelandau.com/event/springfield-mo-springfield-comedy-club-2/
CATEGORIES:Dave Appearances
END:VEVENT
BEGIN:VEVENT
DTSTART;VALUE=DATE:20260807
DTEND;VALUE=DATE:20260809
DTSTAMP:20260420T112438
CREATED:20260418T172601Z
LAST-MODIFIED:20260418T172601Z
UID:2592-1786060800-1786233599@davelandau.com
SUMMARY:Albuquerque\, NM @ Hyena’s
DESCRIPTION:@ Hyena’s Comedy Night Club
URL:https://davelandau.com/event/albuquerque-nm-hyenas/
CATEGORIES:Dave Appearances
END:VEVENT
BEGIN:VEVENT
DTSTART;VALUE=DATE:20260808
DTEND;VALUE=DATE:20260809
DTSTAMP:20260420T112438
CREATED:20260418T172802Z
LAST-MODIFIED:20260418T172802Z
UID:2594-1786147200-1786233599@davelandau.com
SUMMARY:Albuquerque\, NM @ Hyena’s Comedy Nightclub
DESCRIPTION:@ Hyena’s Comedy Club
URL:https://davelandau.com/event/albuquerque-nm-hyenas-comedy-nightclub/
CATEGORIES:Dave Appearances
END:VEVENT
BEGIN:VEVENT
DTSTART;VALUE=DATE:20260814
DTEND;VALUE=DATE:20260815
DTSTAMP:20260420T112438
CREATED:20260418T173620Z
LAST-MODIFIED:20260418T173620Z
UID:2596-1786665600-1786751999@davelandau.com
SUMMARY:Phoenix(Glendale)\, AZ @ Stir Crazy
DESCRIPTION:@ Stir Crazy Comedy Club
URL:https://davelandau.com/event/phoenixglendale-az-stir-crazy/
CATEGORIES:Dave Appearances
END:VEVENT
END:VCALENDAR