BEGIN:VCALENDAR
VERSION:2.0
PRODID:-//Dave Landau - ECPv6.15.18//NONSGML v1.0//EN
CALSCALE:GREGORIAN
METHOD:PUBLISH
X-WR-CALNAME:Dave Landau
X-ORIGINAL-URL:https://davelandau.com
X-WR-CALDESC:Events for Dave Landau
REFRESH-INTERVAL;VALUE=DURATION:PT1H
X-Robots-Tag:noindex
X-PUBLISHED-TTL:PT1H
BEGIN:VTIMEZONE
TZID:UTC
BEGIN:STANDARD
TZOFFSETFROM:+0000
TZOFFSETTO:+0000
TZNAME:UTC
DTSTART:20250101T000000
END:STANDARD
END:VTIMEZONE
BEGIN:VEVENT
DTSTART;VALUE=DATE:20260218
DTEND;VALUE=DATE:20260219
DTSTAMP:20260421T154213
CREATED:20260126T204451Z
LAST-MODIFIED:20260126T204451Z
UID:2513-1771372800-1771459199@davelandau.com
SUMMARY:20 Front st in Lake Orion\, MI
DESCRIPTION:@ 20 Front St
URL:https://davelandau.com/event/20-front-st-in-lake-orion-mi/
CATEGORIES:Dave Appearances
END:VEVENT
BEGIN:VEVENT
DTSTART;VALUE=DATE:20260220
DTEND;VALUE=DATE:20260221
DTSTAMP:20260421T154213
CREATED:20251201T190253Z
LAST-MODIFIED:20251201T190457Z
UID:2439-1771545600-1771631999@davelandau.com
SUMMARY:Statesville\, NC @ Statesville Civic Center
DESCRIPTION:@ Statesville Civic Center w/ 2 Guys Named Chris Radio Allstars
URL:https://davelandau.com/event/statesville-nc-statesville-civic-center/
CATEGORIES:Dave Appearances
END:VEVENT
BEGIN:VEVENT
DTSTART;VALUE=DATE:20260221
DTEND;VALUE=DATE:20260222
DTSTAMP:20260421T154213
CREATED:20251201T190808Z
LAST-MODIFIED:20251201T190808Z
UID:2441-1771632000-1771718399@davelandau.com
SUMMARY:Jacksonville\, NC @ Playhouse NC
DESCRIPTION:@ Playhouse Nightclub with 2 Guys Named Chris Comedy Allstars
URL:https://davelandau.com/event/jacksonville-nc-playhouse-nc/
CATEGORIES:Dave Appearances
END:VEVENT
BEGIN:VEVENT
DTSTART;VALUE=DATE:20260227
DTEND;VALUE=DATE:20260228
DTSTAMP:20260421T154213
CREATED:20251201T191211Z
LAST-MODIFIED:20251201T191211Z
UID:2443-1772150400-1772236799@davelandau.com
SUMMARY:Savannah\, GA @ Victory North
DESCRIPTION:@ Victory North w/ 2 Guys Named Chris Comedy Allstars
URL:https://davelandau.com/event/savannah-ga-victory-north/
CATEGORIES:Dave Appearances
END:VEVENT
BEGIN:VEVENT
DTSTART;VALUE=DATE:20260228
DTEND;VALUE=DATE:20260301
DTSTAMP:20260421T154213
CREATED:20251201T191600Z
LAST-MODIFIED:20251201T191600Z
UID:2445-1772236800-1772323199@davelandau.com
SUMMARY:Myrtle Beach\, SC @ Legends In Concert
DESCRIPTION:@ Legends in Concert w/ 2 Guys names Chris Comedy Radio Allstars
URL:https://davelandau.com/event/myrtle-beach-sc-legends-in-concert/
CATEGORIES:Dave Appearances
END:VEVENT
BEGIN:VEVENT
DTSTART;TZID=UTC:20260306T200000
DTEND;TZID=UTC:20260306T213000
DTSTAMP:20260421T154213
CREATED:20260128T045305Z
LAST-MODIFIED:20260128T045305Z
UID:2515-1772827200-1772832600@davelandau.com
SUMMARY:Novi\, MI @ Big Tommy’s Comedy Club
DESCRIPTION:@ Big Tommy’s Comedy Club
URL:https://davelandau.com/event/novi-mi-big-tommys-comedy-club/
CATEGORIES:Dave Appearances
END:VEVENT
BEGIN:VEVENT
DTSTART;VALUE=DATE:20260307
DTEND;VALUE=DATE:20260308
DTSTAMP:20260421T154213
CREATED:20260128T045803Z
LAST-MODIFIED:20260128T045803Z
UID:2517-1772841600-1772927999@davelandau.com
SUMMARY:Novi\, MI @ Big Tommy’s Comedy Club
DESCRIPTION:@ Big Tommy’s Comedy Club
URL:https://davelandau.com/event/novi-mi-big-tommys-comedy-club-2/
CATEGORIES:Dave Appearances
END:VEVENT
BEGIN:VEVENT
DTSTART;VALUE=DATE:20260312
DTEND;VALUE=DATE:20260313
DTSTAMP:20260421T154213
CREATED:20251227T014958Z
LAST-MODIFIED:20251227T014958Z
UID:2470-1773273600-1773359999@davelandau.com
SUMMARY:Louisville Comedy Club in KY
DESCRIPTION:Louisville Comedy Club w/ American Misfits
URL:https://davelandau.com/event/louisville-comedy-club-in-ky/
CATEGORIES:Dave Appearances
END:VEVENT
BEGIN:VEVENT
DTSTART;VALUE=DATE:20260313
DTEND;VALUE=DATE:20260314
DTSTAMP:20260421T154213
CREATED:20251227T015149Z
LAST-MODIFIED:20251227T015149Z
UID:2473-1773360000-1773446399@davelandau.com
SUMMARY:Louisville Comedy Club in KY
DESCRIPTION:@ Louisville Comedy Club in KY w/ American Misfits
URL:https://davelandau.com/event/louisville-comedy-club-in-ky-2/
CATEGORIES:Dave Appearances
END:VEVENT
BEGIN:VEVENT
DTSTART;VALUE=DATE:20260314
DTEND;VALUE=DATE:20260315
DTSTAMP:20260421T154213
CREATED:20251227T015320Z
LAST-MODIFIED:20251227T015320Z
UID:2475-1773446400-1773532799@davelandau.com
SUMMARY:Louisville Comedy Club in KY
DESCRIPTION:Louisville Comedy Club w/ American Misfits
URL:https://davelandau.com/event/louisville-comedy-club-in-ky-3/
CATEGORIES:Dave Appearances
END:VEVENT
BEGIN:VEVENT
DTSTART;VALUE=DATE:20260321
DTEND;VALUE=DATE:20260322
DTSTAMP:20260421T154213
CREATED:20251227T015620Z
LAST-MODIFIED:20251227T015620Z
UID:2478-1774051200-1774137599@davelandau.com
SUMMARY:Emmaus\, PA @ Emmaus Theater
DESCRIPTION:Emmaus Theater
URL:https://davelandau.com/event/emmaus-pa-emmaus-theater/
CATEGORIES:Dave Appearances
END:VEVENT
BEGIN:VEVENT
DTSTART;VALUE=DATE:20260322
DTEND;VALUE=DATE:20260323
DTSTAMP:20260421T154213
CREATED:20260316T125208Z
LAST-MODIFIED:20260316T125208Z
UID:2538-1774137600-1774223999@davelandau.com
SUMMARY:Cuyahoga Falls\, OH @ The Funny Stop
DESCRIPTION:The Funny Stop
URL:https://davelandau.com/event/cuyahoga-falls-oh-the-funny-stop/
CATEGORIES:Dave Appearances
END:VEVENT
BEGIN:VEVENT
DTSTART;VALUE=DATE:20260326
DTEND;VALUE=DATE:20260327
DTSTAMP:20260421T154213
CREATED:20251227T020017Z
LAST-MODIFIED:20251227T020017Z
UID:2480-1774483200-1774569599@davelandau.com
SUMMARY:Port Charlotte\, FL @ Visani
DESCRIPTION:@ Visani
URL:https://davelandau.com/event/port-charlotte-fl-visani/
CATEGORIES:Dave Appearances
END:VEVENT
BEGIN:VEVENT
DTSTART;VALUE=DATE:20260327
DTEND;VALUE=DATE:20260328
DTSTAMP:20260421T154213
CREATED:20251227T020132Z
LAST-MODIFIED:20251227T032547Z
UID:2482-1774569600-1774655999@davelandau.com
SUMMARY:Port Charlotte\, FL @ Visani
DESCRIPTION:@ Visani
URL:https://davelandau.com/event/port-charlotte-fl-visani-2/
CATEGORIES:Dave Appearances
END:VEVENT
BEGIN:VEVENT
DTSTART;VALUE=DATE:20260328
DTEND;VALUE=DATE:20260329
DTSTAMP:20260421T154213
CREATED:20251227T020330Z
LAST-MODIFIED:20251227T020330Z
UID:2484-1774656000-1774742399@davelandau.com
SUMMARY:Port Charlotte\, FL @ Visani
DESCRIPTION:@ Visani
URL:https://davelandau.com/event/port-charlotte-fl-visani-3/
CATEGORIES:Dave Appearances
END:VEVENT
BEGIN:VEVENT
DTSTART;VALUE=DATE:20260330
DTEND;VALUE=DATE:20260331
DTSTAMP:20260421T154213
CREATED:20251227T020754Z
LAST-MODIFIED:20251227T020754Z
UID:2486-1774828800-1774915199@davelandau.com
SUMMARY:Estero\, FL @ Venturino’s Comedy Club
DESCRIPTION:Venterino’s Comedy Club
URL:https://davelandau.com/event/estero-fl-venturinos-comedy-club/
CATEGORIES:Dave Appearances
END:VEVENT
BEGIN:VEVENT
DTSTART;VALUE=DATE:20260331
DTEND;VALUE=DATE:20260401
DTSTAMP:20260421T154213
CREATED:20260203T173857Z
LAST-MODIFIED:20260203T173857Z
UID:2531-1774915200-1775001599@davelandau.com
SUMMARY:Ft. Lauderdale\, FL @ Shamrock’s Comedy Club
DESCRIPTION:@ Shamrock’s Comedy Club
URL:https://davelandau.com/event/ft-lauderdale-fl-shamrocks-comedy-club/
CATEGORIES:Dave Appearances
END:VEVENT
BEGIN:VEVENT
DTSTART;VALUE=DATE:20260403
DTEND;VALUE=DATE:20260404
DTSTAMP:20260421T154213
CREATED:20251227T031559Z
LAST-MODIFIED:20251227T031559Z
UID:2488-1775174400-1775260799@davelandau.com
SUMMARY:Dallas\, TX @ Hyena’s
DESCRIPTION:@ Hyena’s with American Misfits
URL:https://davelandau.com/event/dallas-tx-hyenas/
CATEGORIES:Dave Appearances
END:VEVENT
BEGIN:VEVENT
DTSTART;VALUE=DATE:20260404
DTEND;VALUE=DATE:20260405
DTSTAMP:20260421T154213
CREATED:20251227T031745Z
LAST-MODIFIED:20251227T031745Z
UID:2490-1775260800-1775347199@davelandau.com
SUMMARY:Dallas\, TX @ Hyena’s
DESCRIPTION:@ Hyena’s w/ American Misfits
URL:https://davelandau.com/event/dallas-tx-hyenas-2/
CATEGORIES:Dave Appearances
END:VEVENT
BEGIN:VEVENT
DTSTART;VALUE=DATE:20260410
DTEND;VALUE=DATE:20260411
DTSTAMP:20260421T154213
CREATED:20260129T032919Z
LAST-MODIFIED:20260129T032919Z
UID:2519-1775779200-1775865599@davelandau.com
SUMMARY:Columbus\, OH @ The Comedy Attic
DESCRIPTION:@ The Comedy Attic
URL:https://davelandau.com/event/columbus-oh-the-comedy-attic/
CATEGORIES:Dave Appearances
END:VEVENT
BEGIN:VEVENT
DTSTART;VALUE=DATE:20260411
DTEND;VALUE=DATE:20260412
DTSTAMP:20260421T154213
CREATED:20251227T032023Z
LAST-MODIFIED:20251227T032023Z
UID:2492-1775865600-1775951999@davelandau.com
SUMMARY:Rochester\, MI @ The Roxy
DESCRIPTION:The Roxy (w/ Mike Loftus)
URL:https://davelandau.com/event/rochester-mi-the-roxy/
CATEGORIES:Dave Appearances
END:VEVENT
BEGIN:VEVENT
DTSTART;VALUE=DATE:20260417
DTEND;VALUE=DATE:20260418
DTSTAMP:20260421T154213
CREATED:20251227T154140Z
LAST-MODIFIED:20251227T154140Z
UID:2498-1776384000-1776470399@davelandau.com
SUMMARY:Lawrence\, KS @ Comedy Club of Lawrence
DESCRIPTION:@ Comedy Club of Lawrence
URL:https://davelandau.com/event/lawrence-ks-comedy-club-of-lawrence-2/
CATEGORIES:Dave Appearances
END:VEVENT
BEGIN:VEVENT
DTSTART;VALUE=DATE:20260418
DTEND;VALUE=DATE:20260419
DTSTAMP:20260421T154213
CREATED:20251227T154920Z
LAST-MODIFIED:20251227T154920Z
UID:2501-1776470400-1776556799@davelandau.com
SUMMARY:Lawrence\, KS @ Comedy Club of Lawrence
DESCRIPTION:@ Comedy Club of Lawrence
URL:https://davelandau.com/event/lawrence-ks-comedy-club-of-lawrence-3/
CATEGORIES:Dave Appearances
END:VEVENT
BEGIN:VEVENT
DTSTART;VALUE=DATE:20260501
DTEND;VALUE=DATE:20260502
DTSTAMP:20260421T154213
CREATED:20260411T233045Z
LAST-MODIFIED:20260411T233045Z
UID:2578-1777593600-1777679999@davelandau.com
SUMMARY:Boca Raton\, FL @ The Sol Theater
DESCRIPTION:@ The Sol Theater
URL:https://davelandau.com/event/boca-raton-fl-the-sol-theater/
CATEGORIES:Dave Appearances
END:VEVENT
BEGIN:VEVENT
DTSTART;VALUE=DATE:20260502
DTEND;VALUE=DATE:20260503
DTSTAMP:20260421T154213
CREATED:20260411T233535Z
LAST-MODIFIED:20260411T233535Z
UID:2580-1777680000-1777766399@davelandau.com
SUMMARY:Boca Raton\, FL @ Sol Theater
DESCRIPTION:@ Sol Theater
URL:https://davelandau.com/event/boca-raton-fl-sol-theater/
CATEGORIES:Dave Appearances
END:VEVENT
BEGIN:VEVENT
DTSTART;VALUE=DATE:20260509
DTEND;VALUE=DATE:20260510
DTSTAMP:20260421T154213
CREATED:20260129T212857Z
LAST-MODIFIED:20260129T212857Z
UID:2524-1778284800-1778371199@davelandau.com
SUMMARY:Soul Joel’s @ Sunnybrook in Pottstown\, PA
DESCRIPTION:Soul Joel’s @ Sunnybrook
URL:https://davelandau.com/event/soul-joels-sunnybrook-in-pottstown-pa/
CATEGORIES:Dave Appearances
END:VEVENT
BEGIN:VEVENT
DTSTART;VALUE=DATE:20260515
DTEND;VALUE=DATE:20260516
DTSTAMP:20260421T154213
CREATED:20260318T134400Z
LAST-MODIFIED:20260318T134400Z
UID:2540-1778803200-1778889599@davelandau.com
SUMMARY:Greenwood\, IN @ Mad Hatter Events Center
DESCRIPTION:@ Mad Hatter Events Center W/ American Misfits
URL:https://davelandau.com/event/greenwood-in-mad-hatter-events-center/
CATEGORIES:Dave Appearances
END:VEVENT
BEGIN:VEVENT
DTSTART;VALUE=DATE:20260516
DTEND;VALUE=DATE:20260517
DTSTAMP:20260421T154213
CREATED:20260318T135135Z
LAST-MODIFIED:20260318T135135Z
UID:2542-1778889600-1778975999@davelandau.com
SUMMARY:Greenwood\, IN @ Mad Hatter Event Center
DESCRIPTION:@ Mad Hatter Events Center
URL:https://davelandau.com/event/greenwood-in-mad-hatter-event-center/
CATEGORIES:Dave Appearances
END:VEVENT
BEGIN:VEVENT
DTSTART;VALUE=DATE:20260520
DTEND;VALUE=DATE:20260521
DTSTAMP:20260421T154213
CREATED:20260318T135745Z
LAST-MODIFIED:20260318T141922Z
UID:2544-1779235200-1779321599@davelandau.com
SUMMARY:San Francisco\, CA @ Cobb’s Comedy Club
DESCRIPTION:@ Cobb’s Comedy Club
URL:https://davelandau.com/event/san-francisco-ca-cobbs-comedy-club/
CATEGORIES:Dave Appearances
END:VEVENT
BEGIN:VEVENT
DTSTART;VALUE=DATE:20260521
DTEND;VALUE=DATE:20260522
DTSTAMP:20260421T154213
CREATED:20260318T140306Z
LAST-MODIFIED:20260318T140306Z
UID:2546-1779321600-1779407999@davelandau.com
SUMMARY:Sacramento\, CA @ Punchline
DESCRIPTION:@ Punchline Comedy Club
URL:https://davelandau.com/event/sacramento-ca-punchline/
CATEGORIES:Dave Appearances
END:VEVENT
END:VCALENDAR