BEGIN:VCALENDAR
VERSION:2.0
PRODID:-//Dave Landau - ECPv6.15.18//NONSGML v1.0//EN
CALSCALE:GREGORIAN
METHOD:PUBLISH
X-WR-CALNAME:Dave Landau
X-ORIGINAL-URL:https://davelandau.com
X-WR-CALDESC:Events for Dave Landau
REFRESH-INTERVAL;VALUE=DURATION:PT1H
X-Robots-Tag:noindex
X-PUBLISHED-TTL:PT1H
BEGIN:VTIMEZONE
TZID:UTC
BEGIN:STANDARD
TZOFFSETFROM:+0000
TZOFFSETTO:+0000
TZNAME:UTC
DTSTART:20240101T000000
END:STANDARD
END:VTIMEZONE
BEGIN:VEVENT
DTSTART;VALUE=DATE:20251106
DTEND;VALUE=DATE:20251107
DTSTAMP:20260425T124258
CREATED:20250328T161528Z
LAST-MODIFIED:20250808T210557Z
UID:2092-1762387200-1762473599@davelandau.com
SUMMARY:Appleton\, WI @ Skyline Comedy Club
DESCRIPTION:@ Skyline Comedy Club
URL:https://davelandau.com/event/appleton-wi-skyline-comedy-club-2/
CATEGORIES:Dave Appearances
END:VEVENT
BEGIN:VEVENT
DTSTART;VALUE=DATE:20251107
DTEND;VALUE=DATE:20251108
DTSTAMP:20260425T124258
CREATED:20250808T210723Z
LAST-MODIFIED:20250907T202440Z
UID:2302-1762473600-1762559999@davelandau.com
SUMMARY:Appleton\, WI @ Skyline Comedy Club
DESCRIPTION:@ Skyline Comedy Cafe
URL:https://davelandau.com/event/appleton-wi-skyline-comedy-cafe/
CATEGORIES:Dave Appearances
END:VEVENT
BEGIN:VEVENT
DTSTART;VALUE=DATE:20251108
DTEND;VALUE=DATE:20251109
DTSTAMP:20260425T124258
CREATED:20250808T212230Z
LAST-MODIFIED:20250808T212842Z
UID:2305-1762560000-1762646399@davelandau.com
SUMMARY:Appleton\, WI @ Skyline Comedy Club
DESCRIPTION:@ Skyline Comedy Club
URL:https://davelandau.com/event/appleton-wi-skyline-comedy-club-3/
CATEGORIES:Dave Appearances
END:VEVENT
BEGIN:VEVENT
DTSTART;VALUE=DATE:20251114
DTEND;VALUE=DATE:20251115
DTSTAMP:20260425T124258
CREATED:20250808T213514Z
LAST-MODIFIED:20250808T213514Z
UID:2311-1763078400-1763164799@davelandau.com
SUMMARY:SKANKFEST NEW ORLEANS
DESCRIPTION:@ Skankfest
URL:https://davelandau.com/event/skankfest-new-orleans/
CATEGORIES:Dave Appearances
END:VEVENT
BEGIN:VEVENT
DTSTART;VALUE=DATE:20251115
DTEND;VALUE=DATE:20251116
DTSTAMP:20260425T124258
CREATED:20250808T213711Z
LAST-MODIFIED:20250808T213711Z
UID:2313-1763164800-1763251199@davelandau.com
SUMMARY:SKANKFEST NEW ORLEANS
DESCRIPTION:@ SKANK FEST
URL:https://davelandau.com/event/skankfest-new-orleans-2/
CATEGORIES:Dave Appearances
END:VEVENT
BEGIN:VEVENT
DTSTART;VALUE=DATE:20251121
DTEND;VALUE=DATE:20251122
DTSTAMP:20260425T124258
CREATED:20251002T153726Z
LAST-MODIFIED:20251002T153726Z
UID:2388-1763683200-1763769599@davelandau.com
SUMMARY:Naples\, FL @ Off The Hook
DESCRIPTION:@ Off The Hook Comedy Club
URL:https://davelandau.com/event/naples-fl-off-the-hook/
CATEGORIES:Dave Appearances
END:VEVENT
BEGIN:VEVENT
DTSTART;VALUE=DATE:20251122
DTEND;VALUE=DATE:20251123
DTSTAMP:20260425T124258
CREATED:20251002T153853Z
LAST-MODIFIED:20251002T153853Z
UID:2390-1763769600-1763855999@davelandau.com
SUMMARY:Naples\, FL @ Off The Hook Comedy Club
DESCRIPTION:@ Off The Hook Comedy Club
URL:https://davelandau.com/event/naples-fl-off-the-hook-comedy-club/
CATEGORIES:Dave Appearances
END:VEVENT
BEGIN:VEVENT
DTSTART;VALUE=DATE:20251123
DTEND;VALUE=DATE:20251124
DTSTAMP:20260425T124258
CREATED:20251002T154004Z
LAST-MODIFIED:20251002T154004Z
UID:2392-1763856000-1763942399@davelandau.com
SUMMARY:Naples\, FL @ Off The Hook
DESCRIPTION:@ Off The Hook
URL:https://davelandau.com/event/naples-fl-off-the-hook-2/
CATEGORIES:Dave Appearances
END:VEVENT
BEGIN:VEVENT
DTSTART;VALUE=DATE:20251128
DTEND;VALUE=DATE:20251129
DTSTAMP:20260425T124258
CREATED:20251002T013633Z
LAST-MODIFIED:20251002T013633Z
UID:2386-1764288000-1764374399@davelandau.com
SUMMARY:Prosser\, WA @ Princess Theatre
DESCRIPTION:@ Princess Theatre
URL:https://davelandau.com/event/prosser-wa-princess-theatre/
CATEGORIES:Dave Appearances
END:VEVENT
BEGIN:VEVENT
DTSTART;VALUE=DATE:20251130
DTEND;VALUE=DATE:20251201
DTSTAMP:20260425T124258
CREATED:20250910T043340Z
LAST-MODIFIED:20250910T043340Z
UID:2364-1764460800-1764547199@davelandau.com
SUMMARY:San Diego\, CA @ American Comedy Co.
DESCRIPTION:@ American Comedy Co.
URL:https://davelandau.com/event/san-diego-ca-american-comedy-co/
CATEGORIES:Dave Appearances
END:VEVENT
END:VCALENDAR