BEGIN:VCALENDAR
VERSION:2.0
PRODID:-//Dave Landau - ECPv6.15.18//NONSGML v1.0//EN
CALSCALE:GREGORIAN
METHOD:PUBLISH
X-WR-CALNAME:Dave Landau
X-ORIGINAL-URL:https://davelandau.com
X-WR-CALDESC:Events for Dave Landau
REFRESH-INTERVAL;VALUE=DURATION:PT1H
X-Robots-Tag:noindex
X-PUBLISHED-TTL:PT1H
BEGIN:VTIMEZONE
TZID:UTC
BEGIN:STANDARD
TZOFFSETFROM:+0000
TZOFFSETTO:+0000
TZNAME:UTC
DTSTART:20240101T000000
END:STANDARD
END:VTIMEZONE
BEGIN:VEVENT
DTSTART;VALUE=DATE:20251003
DTEND;VALUE=DATE:20251004
DTSTAMP:20260425T105602
CREATED:20250802T162257Z
LAST-MODIFIED:20250802T162257Z
UID:2273-1759449600-1759535999@davelandau.com
SUMMARY:Boca Raton @ Sadman Comedy Club
DESCRIPTION:Sandman Comedy Club \n2 shows a night!
URL:https://davelandau.com/event/boca-raton-sadman-comedy-club/
CATEGORIES:Dave Appearances
END:VEVENT
BEGIN:VEVENT
DTSTART;VALUE=DATE:20251004
DTEND;VALUE=DATE:20251005
DTSTAMP:20260425T105602
CREATED:20250802T162457Z
LAST-MODIFIED:20250802T162457Z
UID:2275-1759536000-1759622399@davelandau.com
SUMMARY:Boca Raton @ Sadman Comedy Club
DESCRIPTION:Sadman Comedy Club \n2 shows a night!
URL:https://davelandau.com/event/boca-raton-sadman-comedy-club-2/
CATEGORIES:Dave Appearances
END:VEVENT
BEGIN:VEVENT
DTSTART;VALUE=DATE:20251005
DTEND;VALUE=DATE:20251006
DTSTAMP:20260425T105602
CREATED:20250321T044358Z
LAST-MODIFIED:20250805T041046Z
UID:2056-1759622400-1759708799@davelandau.com
SUMMARY:Nashville\, TN @ Zanies
DESCRIPTION:@ Zanies
URL:https://davelandau.com/event/nashville-tn-3/
CATEGORIES:Dave Appearances
END:VEVENT
BEGIN:VEVENT
DTSTART;VALUE=DATE:20251008
DTEND;VALUE=DATE:20251009
DTSTAMP:20260425T105602
CREATED:20251013T155159Z
LAST-MODIFIED:20251013T155159Z
UID:2396-1759881600-1759967999@davelandau.com
SUMMARY:Tulsa\, OK @ The Loony Bin
DESCRIPTION:@ The Loony Bin
URL:https://davelandau.com/event/tulsa-ok-the-loony-bin/
CATEGORIES:Dave Appearances
END:VEVENT
BEGIN:VEVENT
DTSTART;VALUE=DATE:20251010
DTEND;VALUE=DATE:20251011
DTSTAMP:20260425T105602
CREATED:20250328T161059Z
LAST-MODIFIED:20250805T042533Z
UID:2089-1760054400-1760140799@davelandau.com
SUMMARY:Tampa\, FL @ Sidesplitter's
DESCRIPTION:@ Sidesplitter’s in Tampa
URL:https://davelandau.com/event/tampa-fl-sidesplitters/
CATEGORIES:Dave Appearances
END:VEVENT
BEGIN:VEVENT
DTSTART;VALUE=DATE:20251011
DTEND;VALUE=DATE:20251012
DTSTAMP:20260425T105602
CREATED:20250805T042726Z
LAST-MODIFIED:20250805T042726Z
UID:2293-1760140800-1760227199@davelandau.com
SUMMARY:Tampa\, Fl @ Sidesplitter’s
DESCRIPTION:Sidesplitter’s in Tampa\, FL
URL:https://davelandau.com/event/tampa-fl-sidesplitters-2/
CATEGORIES:Dave Appearances
END:VEVENT
BEGIN:VEVENT
DTSTART;VALUE=DATE:20251013
DTEND;VALUE=DATE:20251014
DTSTAMP:20260425T105602
CREATED:20250809T195636Z
LAST-MODIFIED:20250809T195636Z
UID:2322-1760313600-1760399999@davelandau.com
SUMMARY:Moncks Corner\, SC @ Dreamer’s
DESCRIPTION:@ Dreamer’s
URL:https://davelandau.com/event/moncks-corner-sc-dreamers/
CATEGORIES:Dave Appearances
END:VEVENT
BEGIN:VEVENT
DTSTART;VALUE=DATE:20251018
DTEND;VALUE=DATE:20251019
DTSTAMP:20260425T105602
CREATED:20250328T160148Z
LAST-MODIFIED:20250328T160148Z
UID:2085-1760745600-1760831999@davelandau.com
SUMMARY:Jackson\, MI @ Michigan Theater
DESCRIPTION:W/ Michael Loftus & Derek Richards
URL:https://davelandau.com/event/jackson-mi-michigan-theater/
CATEGORIES:Dave Appearances
END:VEVENT
BEGIN:VEVENT
DTSTART;VALUE=DATE:20251019
DTEND;VALUE=DATE:20251020
DTSTAMP:20260425T105602
CREATED:20250925T211812Z
LAST-MODIFIED:20250925T211812Z
UID:2383-1760832000-1760918399@davelandau.com
SUMMARY:Bay City\, MI @ American Legion for Marine Corps Fundraiser
DESCRIPTION:@American Legion in Bay City
URL:https://davelandau.com/event/bay-city-mi-american-legion-for-marine-corps-fundraiser/
CATEGORIES:Dave Appearances
END:VEVENT
BEGIN:VEVENT
DTSTART;VALUE=DATE:20251023
DTEND;VALUE=DATE:20251024
DTSTAMP:20260425T105602
CREATED:20250328T160453Z
LAST-MODIFIED:20250918T133313Z
UID:2087-1761177600-1761263999@davelandau.com
SUMMARY:Royal Oak\, MI @ Mark Ridley's Comedy Castle
DESCRIPTION:@ Mark Ridley’s Comedy Castle
URL:https://davelandau.com/event/royal-oak-mi-mark-ridleys-comedy-castle/
CATEGORIES:Dave Appearances
END:VEVENT
BEGIN:VEVENT
DTSTART;VALUE=DATE:20251024
DTEND;VALUE=DATE:20251025
DTSTAMP:20260425T105602
CREATED:20250805T183655Z
LAST-MODIFIED:20250918T133432Z
UID:2299-1761264000-1761350399@davelandau.com
SUMMARY:Royal Oak\, MI @ Mark Ridley’s Comedy Castle
DESCRIPTION:@ Mark Ridley’s Comedy Castle
URL:https://davelandau.com/event/royal-oak-mi-mark-ridleys-comedy-castle-3/
CATEGORIES:Dave Appearances
END:VEVENT
BEGIN:VEVENT
DTSTART;VALUE=DATE:20251025
DTEND;VALUE=DATE:20251026
DTSTAMP:20260425T105602
CREATED:20250805T183441Z
LAST-MODIFIED:20250918T133544Z
UID:2297-1761350400-1761436799@davelandau.com
SUMMARY:Royal Oak\, MI @ Mark Ridley’s Comedy Castle
DESCRIPTION:@ Mark Ridley’s Comedy Castle
URL:https://davelandau.com/event/royal-oak-mi-mark-ridleys-comedy-castle-2/
CATEGORIES:Dave Appearances
END:VEVENT
END:VCALENDAR