BEGIN:VCALENDAR
VERSION:2.0
PRODID:-//Dave Landau - ECPv6.15.18//NONSGML v1.0//EN
CALSCALE:GREGORIAN
METHOD:PUBLISH
X-ORIGINAL-URL:https://davelandau.com
X-WR-CALDESC:Events for Dave Landau
REFRESH-INTERVAL;VALUE=DURATION:PT1H
X-Robots-Tag:noindex
X-PUBLISHED-TTL:PT1H
BEGIN:VTIMEZONE
TZID:UTC
BEGIN:STANDARD
TZOFFSETFROM:+0000
TZOFFSETTO:+0000
TZNAME:UTC
DTSTART:20240101T000000
END:STANDARD
END:VTIMEZONE
BEGIN:VEVENT
DTSTART;VALUE=DATE:20250905
DTEND;VALUE=DATE:20250907
DTSTAMP:20260423T141856
CREATED:20250714T032459Z
LAST-MODIFIED:20250802T161248Z
UID:2159-1757030400-1757203199@davelandau.com
SUMMARY:Saratoga Springs\, NY @ Comedy Works
DESCRIPTION:@ Comedy Works
URL:https://davelandau.com/event/saratoga-springs-ny-3/
CATEGORIES:Dave Appearances
END:VEVENT
BEGIN:VEVENT
DTSTART;VALUE=DATE:20250906
DTEND;VALUE=DATE:20250907
DTSTAMP:20260423T141856
CREATED:20250802T145536Z
LAST-MODIFIED:20250802T145536Z
UID:2266-1757116800-1757203199@davelandau.com
SUMMARY:Saratoga Springs @ Comedy Works
DESCRIPTION:@ Comedy Works
URL:https://davelandau.com/event/saratoga-springs-comedy-works/
CATEGORIES:Dave Appearances
END:VEVENT
BEGIN:VEVENT
DTSTART;VALUE=DATE:20250912
DTEND;VALUE=DATE:20250913
DTSTAMP:20260423T141856
CREATED:20250328T154511Z
LAST-MODIFIED:20250802T163144Z
UID:2072-1757635200-1757721599@davelandau.com
SUMMARY:Ferndale\, MI @ The Magic Bag w/ Drew Lane Live Show
DESCRIPTION:@ The Magic Bag w/ Drew Lane\, WATP & Mike Wolters (Sold Out)
URL:https://davelandau.com/event/ferndale-mi-the-magic-bag-w-drew-lane-live-show/
CATEGORIES:Dave Appearances
END:VEVENT
BEGIN:VEVENT
DTSTART;VALUE=DATE:20250913
DTEND;VALUE=DATE:20250914
DTSTAMP:20260423T141856
CREATED:20250802T141242Z
LAST-MODIFIED:20250802T141242Z
UID:2244-1757721600-1757807999@davelandau.com
SUMMARY:Beaverton\, MI
DESCRIPTION:MJ’s Fun Before the Run \nFraternal Order of Eagles \n1380 Estey Rd\, Beaverton\, MI 48612\, United States
URL:https://davelandau.com/event/beaverton-mi/
LOCATION:Fraternal Order of Eagles 1380 Estey Rd\, Beaverton\, MI 48612\, United States
CATEGORIES:Dave Appearances
END:VEVENT
BEGIN:VEVENT
DTSTART;VALUE=DATE:20250919
DTEND;VALUE=DATE:20250920
DTSTAMP:20260423T141856
CREATED:20250802T141902Z
LAST-MODIFIED:20250907T200109Z
UID:2247-1758240000-1758326399@davelandau.com
SUMMARY:Tacoma\, WA @ Tacoma Comedy Club 5th and Proctor
DESCRIPTION:Tacoma Comedy Club \nFifth and Proctor
URL:https://davelandau.com/event/tacoma-wa-6/
CATEGORIES:Dave Appearances
END:VEVENT
BEGIN:VEVENT
DTSTART;VALUE=DATE:20250920
DTEND;VALUE=DATE:20250921
DTSTAMP:20260423T141856
CREATED:20250802T142110Z
LAST-MODIFIED:20250907T200206Z
UID:2250-1758326400-1758412799@davelandau.com
SUMMARY:Tacoma\, WA @ Tacoma Comedy Club 5th and Proctor
DESCRIPTION:Tacoma Comedy Club Fifth & Proctor
URL:https://davelandau.com/event/tacoma-wa-7/
CATEGORIES:Dave Appearances
END:VEVENT
BEGIN:VEVENT
DTSTART;VALUE=DATE:20250925
DTEND;VALUE=DATE:20250926
DTSTAMP:20260423T141856
CREATED:20250328T155228Z
LAST-MODIFIED:20250909T140226Z
UID:2081-1758758400-1758844799@davelandau.com
SUMMARY:Fort Wayne\, IN @ Summit City
DESCRIPTION:Summit City Comedy Club w/ American Misfits
URL:https://davelandau.com/event/fort-wayne-in-summit-city/
CATEGORIES:Dave Appearances
END:VEVENT
BEGIN:VEVENT
DTSTART;VALUE=DATE:20250926
DTEND;VALUE=DATE:20250927
DTSTAMP:20260423T141856
CREATED:20250805T041959Z
LAST-MODIFIED:20250906T043247Z
UID:2288-1758844800-1758931199@davelandau.com
SUMMARY:Fort Wayne\, IN @ Summit City Comedy Club
DESCRIPTION:The American Misfits Comedy Tour @ Summit City Comedy Club
URL:https://davelandau.com/event/fort-wayne-in-summit-city-comedy-club/
CATEGORIES:Dave Appearances
END:VEVENT
BEGIN:VEVENT
DTSTART;VALUE=DATE:20250927
DTEND;VALUE=DATE:20250928
DTSTAMP:20260423T141856
CREATED:20250805T042229Z
LAST-MODIFIED:20250906T043410Z
UID:2290-1758931200-1759017599@davelandau.com
SUMMARY:Fort Wayne\, IN @ Summit City Comedy Club
DESCRIPTION:American Misfits @ Summit City Comedy Club
URL:https://davelandau.com/event/fort-wayne-in-summit-city-comedy-club-2/
CATEGORIES:Dave Appearances
END:VEVENT
END:VCALENDAR