BEGIN:VCALENDAR
VERSION:2.0
PRODID:-//Dave Landau - ECPv6.15.18//NONSGML v1.0//EN
CALSCALE:GREGORIAN
METHOD:PUBLISH
X-ORIGINAL-URL:https://davelandau.com
X-WR-CALDESC:Events for Dave Landau
REFRESH-INTERVAL;VALUE=DURATION:PT1H
X-Robots-Tag:noindex
X-PUBLISHED-TTL:PT1H
BEGIN:VTIMEZONE
TZID:UTC
BEGIN:STANDARD
TZOFFSETFROM:+0000
TZOFFSETTO:+0000
TZNAME:UTC
DTSTART:20240101T000000
END:STANDARD
END:VTIMEZONE
BEGIN:VEVENT
DTSTART;VALUE=DATE:20250802
DTEND;VALUE=DATE:20250803
DTSTAMP:20260423T105206
CREATED:20250328T152755Z
LAST-MODIFIED:20250802T113512Z
UID:2073-1754092800-1754179199@davelandau.com
SUMMARY:Dayton\, OH @ The Funny Bone
DESCRIPTION:@ The Funny Bone
URL:https://davelandau.com/event/dayton-oh-the-funny-bone/
CATEGORIES:Dave Appearances
END:VEVENT
BEGIN:VEVENT
DTSTART;VALUE=DATE:20250809
DTEND;VALUE=DATE:20250810
DTSTAMP:20260423T105206
CREATED:20250802T143319Z
LAST-MODIFIED:20250802T143503Z
UID:2255-1754697600-1754783999@davelandau.com
SUMMARY:Greensboro\, NC @ Comedy Zone
DESCRIPTION:@ Comedy Zone
URL:https://davelandau.com/event/greensboro-comedy-zone/
CATEGORIES:Dave Appearances
END:VEVENT
BEGIN:VEVENT
DTSTART;VALUE=DATE:20250816
DTEND;VALUE=DATE:20250817
DTSTAMP:20260423T105206
CREATED:20250705T021638Z
LAST-MODIFIED:20250815T205733Z
UID:2155-1755302400-1755388799@davelandau.com
SUMMARY:Ann Arbor\, MI @ Ann Arbor Comedy Showcase
DESCRIPTION:@ Ann Arbor comedy Showcase
URL:https://davelandau.com/event/ann-arbor-mi-2/
CATEGORIES:Dave Appearances
END:VEVENT
BEGIN:VEVENT
DTSTART;VALUE=DATE:20250822
DTEND;VALUE=DATE:20250823
DTSTAMP:20260423T105206
CREATED:20250805T013557Z
LAST-MODIFIED:20250805T013557Z
UID:2279-1755820800-1755907199@davelandau.com
SUMMARY:Albuquerque\, NM @ Hyena’s Comedy Club
DESCRIPTION:@ Hyena’s Comedy Club
URL:https://davelandau.com/event/albuquerque-nm-hyenas-comedy-club/
CATEGORIES:Dave Appearances
END:VEVENT
BEGIN:VEVENT
DTSTART;VALUE=DATE:20250823
DTEND;VALUE=DATE:20250824
DTSTAMP:20260423T105206
CREATED:20250805T013753Z
LAST-MODIFIED:20250805T013753Z
UID:2281-1755907200-1755993599@davelandau.com
SUMMARY:Albuquerque\, NM @ Hyena’s Comedy Club
DESCRIPTION:@ Hyena’s Comedy Club
URL:https://davelandau.com/event/albuquerque-nm-hyenas-comedy-club-2/
CATEGORIES:Dave Appearances
END:VEVENT
BEGIN:VEVENT
DTSTART;VALUE=DATE:20250829
DTEND;VALUE=DATE:20250901
DTSTAMP:20260423T105206
CREATED:20241215T030714Z
LAST-MODIFIED:20250421T072617Z
UID:1961-1756425600-1756684799@davelandau.com
SUMMARY:Austin\, TX @ Comedy Mothership
DESCRIPTION:@ Comedy Mothership
URL:https://davelandau.com/event/austin-tx-4/
CATEGORIES:Dave Appearances
END:VEVENT
BEGIN:VEVENT
DTSTART;VALUE=DATE:20250831
DTEND;VALUE=DATE:20250901
DTSTAMP:20260423T105206
CREATED:20250802T144026Z
LAST-MODIFIED:20250802T144026Z
UID:2260-1756598400-1756684799@davelandau.com
SUMMARY:Austin\, TX @ Comedy Mothership
DESCRIPTION:Comedy Mothership
URL:https://davelandau.com/event/austin-tx-comedy-mothership/
CATEGORIES:Dave Appearances
END:VEVENT
END:VCALENDAR