BEGIN:VCALENDAR
VERSION:2.0
PRODID:-//Dave Landau - ECPv6.15.18//NONSGML v1.0//EN
CALSCALE:GREGORIAN
METHOD:PUBLISH
X-ORIGINAL-URL:https://davelandau.com
X-WR-CALDESC:Events for Dave Landau
REFRESH-INTERVAL;VALUE=DURATION:PT1H
X-Robots-Tag:noindex
X-PUBLISHED-TTL:PT1H
BEGIN:VTIMEZONE
TZID:UTC
BEGIN:STANDARD
TZOFFSETFROM:+0000
TZOFFSETTO:+0000
TZNAME:UTC
DTSTART:20240101T000000
END:STANDARD
END:VTIMEZONE
BEGIN:VEVENT
DTSTART;VALUE=DATE:20250501
DTEND;VALUE=DATE:20250504
DTSTAMP:20260421T002555
CREATED:20240706T164300Z
LAST-MODIFIED:20240924T192734Z
UID:1824-1746057600-1746316799@davelandau.com
SUMMARY:Jacksonville\, FL
DESCRIPTION:@ The Comedy Zone
URL:https://davelandau.com/event/jacksonville-fl-2/
CATEGORIES:Dave Appearances
END:VEVENT
BEGIN:VEVENT
DTSTART;VALUE=DATE:20250508
DTEND;VALUE=DATE:20250511
DTSTAMP:20260421T002555
CREATED:20250328T143934Z
LAST-MODIFIED:20250328T143934Z
UID:2060-1746662400-1746921599@davelandau.com
SUMMARY:Calgary\, AB
DESCRIPTION:@. The Comedy Cove
URL:https://davelandau.com/event/calgary-ab/
CATEGORIES:Dave Appearances
END:VEVENT
BEGIN:VEVENT
DTSTART;VALUE=DATE:20250516
DTEND;VALUE=DATE:20250517
DTSTAMP:20260421T002555
CREATED:20250104T151304Z
LAST-MODIFIED:20250319T225606Z
UID:1986-1747353600-1747439999@davelandau.com
SUMMARY:Romeo\, MI
DESCRIPTION:@Younger’s Irish Tavern
URL:https://davelandau.com/event/romeo-mi-3/
CATEGORIES:Dave Appearances
END:VEVENT
BEGIN:VEVENT
DTSTART;VALUE=DATE:20250518
DTEND;VALUE=DATE:20250519
DTSTAMP:20260421T002555
CREATED:20250201T154751Z
LAST-MODIFIED:20250201T154751Z
UID:2001-1747526400-1747612799@davelandau.com
SUMMARY:Cleveland\, OH
DESCRIPTION:@ Hilarities / Pickwick and Frolic
URL:https://davelandau.com/event/cleveland-oh-5/
CATEGORIES:Dave Appearances
END:VEVENT
BEGIN:VEVENT
DTSTART;VALUE=DATE:20250528
DTEND;VALUE=DATE:20250529
DTSTAMP:20260421T002555
CREATED:20250321T044122Z
LAST-MODIFIED:20250321T044122Z
UID:2054-1748390400-1748476799@davelandau.com
SUMMARY:Tyler\, TX
DESCRIPTION:@ Rose City Comedy
URL:https://davelandau.com/event/tyler-tx/
CATEGORIES:Dave Appearances
END:VEVENT
BEGIN:VEVENT
DTSTART;VALUE=DATE:20250529
DTEND;VALUE=DATE:20250530
DTSTAMP:20260421T002555
CREATED:20250201T154138Z
LAST-MODIFIED:20250317T124436Z
UID:1998-1748476800-1748563199@davelandau.com
SUMMARY:Houston\, TX
DESCRIPTION:@ The Improv
URL:https://davelandau.com/event/houston-tx-3/
CATEGORIES:Dave Appearances
END:VEVENT
BEGIN:VEVENT
DTSTART;VALUE=DATE:20250531
DTEND;VALUE=DATE:20250601
DTSTAMP:20260421T002555
CREATED:20250412T223503Z
LAST-MODIFIED:20250412T223503Z
UID:2105-1748649600-1748735999@davelandau.com
SUMMARY:Belleville\, MI
DESCRIPTION:@ Diamond Back Music Hall
URL:https://davelandau.com/event/belleville-mi/
CATEGORIES:Dave Appearances
END:VEVENT
END:VCALENDAR