BEGIN:VCALENDAR
VERSION:2.0
PRODID:-//Dave Landau - ECPv6.15.18//NONSGML v1.0//EN
CALSCALE:GREGORIAN
METHOD:PUBLISH
X-WR-CALNAME:Dave Landau
X-ORIGINAL-URL:https://davelandau.com
X-WR-CALDESC:Events for Dave Landau
REFRESH-INTERVAL;VALUE=DURATION:PT1H
X-Robots-Tag:noindex
X-PUBLISHED-TTL:PT1H
BEGIN:VTIMEZONE
TZID:UTC
BEGIN:STANDARD
TZOFFSETFROM:+0000
TZOFFSETTO:+0000
TZNAME:UTC
DTSTART:20240101T000000
END:STANDARD
END:VTIMEZONE
BEGIN:VEVENT
DTSTART;VALUE=DATE:20250404
DTEND;VALUE=DATE:20250406
DTSTAMP:20260420T221854
CREATED:20250104T150916Z
LAST-MODIFIED:20250104T150916Z
UID:1984-1743724800-1743897599@davelandau.com
SUMMARY:Dallas\, TX
DESCRIPTION:@ Hyena’s Comedy Club
URL:https://davelandau.com/event/dallas-tx-7/
CATEGORIES:Dave Appearances
END:VEVENT
BEGIN:VEVENT
DTSTART;VALUE=DATE:20250410
DTEND;VALUE=DATE:20250411
DTSTAMP:20260420T221854
CREATED:20241212T213909Z
LAST-MODIFIED:20241212T213909Z
UID:1947-1744243200-1744329599@davelandau.com
SUMMARY:San Jose\, CA
DESCRIPTION:@ The San Jose Improv
URL:https://davelandau.com/event/san-jose-ca-2/
CATEGORIES:Dave Appearances
END:VEVENT
BEGIN:VEVENT
DTSTART;VALUE=DATE:20250411
DTEND;VALUE=DATE:20250413
DTSTAMP:20260420T221854
CREATED:20250104T150514Z
LAST-MODIFIED:20250104T150514Z
UID:1982-1744329600-1744502399@davelandau.com
SUMMARY:Chicago\, IL
DESCRIPTION:@ The Comedy Bar
URL:https://davelandau.com/event/chicago-il/
CATEGORIES:Dave Appearances
END:VEVENT
BEGIN:VEVENT
DTSTART;VALUE=DATE:20250413
DTEND;VALUE=DATE:20250414
DTSTAMP:20260420T221854
CREATED:20250201T153631Z
LAST-MODIFIED:20250201T153631Z
UID:1996-1744502400-1744588799@davelandau.com
SUMMARY:Philadelphia\, PA
DESCRIPTION:@ Helium
URL:https://davelandau.com/event/philadelphia-pa-3/
CATEGORIES:Dave Appearances
END:VEVENT
BEGIN:VEVENT
DTSTART;VALUE=DATE:20250418
DTEND;VALUE=DATE:20250420
DTSTAMP:20260420T221854
CREATED:20241216T214257Z
LAST-MODIFIED:20241217T054511Z
UID:1964-1744934400-1745107199@davelandau.com
SUMMARY:Glendale (Phoenix)\, AZ
DESCRIPTION:@ Stir Crazy
URL:https://davelandau.com/event/glendale-phoenix-az/
CATEGORIES:Dave Appearances
END:VEVENT
BEGIN:VEVENT
DTSTART;VALUE=DATE:20250425
DTEND;VALUE=DATE:20250426
DTSTAMP:20260420T221854
CREATED:20250310T171629Z
LAST-MODIFIED:20250310T171850Z
UID:2042-1745539200-1745625599@davelandau.com
SUMMARY:Freeland\, MI
DESCRIPTION:@Freeland Walleye Festival
URL:https://davelandau.com/event/freeland-mi/
CATEGORIES:Dave Appearances
END:VEVENT
BEGIN:VEVENT
DTSTART;VALUE=DATE:20250425
DTEND;VALUE=DATE:20250428
DTSTAMP:20260420T221854
CREATED:20250104T150049Z
LAST-MODIFIED:20250104T150049Z
UID:1980-1745539200-1745798399@davelandau.com
SUMMARY:Unavailable/ TV filming
DESCRIPTION:
URL:https://davelandau.com/event/unavailable-tv-filming/
CATEGORIES:Dave Appearances
END:VEVENT
END:VCALENDAR