BEGIN:VCALENDAR
VERSION:2.0
PRODID:-//Dave Landau - ECPv6.15.18//NONSGML v1.0//EN
CALSCALE:GREGORIAN
METHOD:PUBLISH
X-WR-CALNAME:Dave Landau
X-ORIGINAL-URL:https://davelandau.com
X-WR-CALDESC:Events for Dave Landau
REFRESH-INTERVAL;VALUE=DURATION:PT1H
X-Robots-Tag:noindex
X-PUBLISHED-TTL:PT1H
BEGIN:VTIMEZONE
TZID:UTC
BEGIN:STANDARD
TZOFFSETFROM:+0000
TZOFFSETTO:+0000
TZNAME:UTC
DTSTART:20240101T000000
END:STANDARD
END:VTIMEZONE
BEGIN:VEVENT
DTSTART;VALUE=DATE:20250131
DTEND;VALUE=DATE:20250202
DTSTAMP:20260420T190056
CREATED:20240816T202713Z
LAST-MODIFIED:20240829T225516Z
UID:1847-1738281600-1738454399@davelandau.com
SUMMARY:Morris Plains\, NJ
DESCRIPTION:@ Tiff’s Comedy Dojo
URL:https://davelandau.com/event/morris-plains-nj-4/
CATEGORIES:Dave Appearances
END:VEVENT
BEGIN:VEVENT
DTSTART;VALUE=DATE:20250207
DTEND;VALUE=DATE:20250209
DTSTAMP:20260420T190056
CREATED:20241208T195330Z
LAST-MODIFIED:20241208T195330Z
UID:1929-1738886400-1739059199@davelandau.com
SUMMARY:Fort Worth\, TX
DESCRIPTION:The Red Room @ Hyena’s Comedy Club
URL:https://davelandau.com/event/fort-worth-tx-2/
CATEGORIES:Dave Appearances
END:VEVENT
BEGIN:VEVENT
DTSTART;VALUE=DATE:20250213
DTEND;VALUE=DATE:20250217
DTSTAMP:20260420T190056
CREATED:20241208T222832Z
LAST-MODIFIED:20241208T222832Z
UID:1937-1739404800-1739750399@davelandau.com
SUMMARY:Key West\, FL
DESCRIPTION:@ Comedy Key West
URL:https://davelandau.com/event/key-west-fl-3/
CATEGORIES:Dave Appearances
END:VEVENT
BEGIN:VEVENT
DTSTART;VALUE=DATE:20250219
DTEND;VALUE=DATE:20250220
DTSTAMP:20260420T190056
CREATED:20241208T224415Z
LAST-MODIFIED:20241214T191639Z
UID:1944-1739923200-1740009599@davelandau.com
SUMMARY:Irvine\, CA
DESCRIPTION:@ The Improv
URL:https://davelandau.com/event/irvine-ca-2/
CATEGORIES:Dave Appearances
END:VEVENT
BEGIN:VEVENT
DTSTART;VALUE=DATE:20250220
DTEND;VALUE=DATE:20250221
DTSTAMP:20260420T190056
CREATED:20241208T223241Z
LAST-MODIFIED:20241208T223519Z
UID:1939-1740009600-1740095999@davelandau.com
SUMMARY:Oxnard\, CA
DESCRIPTION:@ Levity Live
URL:https://davelandau.com/event/oxnard-ca/
CATEGORIES:Dave Appearances
END:VEVENT
BEGIN:VEVENT
DTSTART;VALUE=DATE:20250223
DTEND;VALUE=DATE:20250224
DTSTAMP:20260420T190056
CREATED:20241208T223724Z
LAST-MODIFIED:20241208T223724Z
UID:1941-1740268800-1740355199@davelandau.com
SUMMARY:Ontario\, CA
DESCRIPTION:@ The Improv
URL:https://davelandau.com/event/ontario-ca/
CATEGORIES:Dave Appearances
END:VEVENT
BEGIN:VEVENT
DTSTART;VALUE=DATE:20250224
DTEND;VALUE=DATE:20250303
DTSTAMP:20260420T190056
CREATED:20241208T204756Z
LAST-MODIFIED:20241208T204756Z
UID:1935-1740355200-1740959999@davelandau.com
SUMMARY:Las Vegas\, NV
DESCRIPTION:@ Brad Garrett’s Comedy Club at the MGM Grand
URL:https://davelandau.com/event/las-vegas-nv-4/
CATEGORIES:Dave Appearances
END:VEVENT
END:VCALENDAR