BEGIN:VCALENDAR
VERSION:2.0
PRODID:-//Dave Landau - ECPv6.15.18//NONSGML v1.0//EN
CALSCALE:GREGORIAN
METHOD:PUBLISH
X-WR-CALNAME:Dave Landau
X-ORIGINAL-URL:https://davelandau.com
X-WR-CALDESC:Events for Dave Landau
REFRESH-INTERVAL;VALUE=DURATION:PT1H
X-Robots-Tag:noindex
X-PUBLISHED-TTL:PT1H
BEGIN:VTIMEZONE
TZID:UTC
BEGIN:STANDARD
TZOFFSETFROM:+0000
TZOFFSETTO:+0000
TZNAME:UTC
DTSTART:20230101T000000
END:STANDARD
END:VTIMEZONE
BEGIN:VEVENT
DTSTART;VALUE=DATE:20241205
DTEND;VALUE=DATE:20241208
DTSTAMP:20260420T155046
CREATED:20240913T160408Z
LAST-MODIFIED:20240913T160408Z
UID:1873-1733356800-1733615999@davelandau.com
SUMMARY:Port Charlotte\, FL
DESCRIPTION:@ Visani’s
URL:https://davelandau.com/event/port-charlotte-fl-5/
CATEGORIES:Dave Appearances
END:VEVENT
BEGIN:VEVENT
DTSTART;VALUE=DATE:20241213
DTEND;VALUE=DATE:20241215
DTSTAMP:20260420T155046
CREATED:20240719T170500Z
LAST-MODIFIED:20240719T170525Z
UID:1834-1734048000-1734220799@davelandau.com
SUMMARY:Traverse City\, MI
DESCRIPTION:@ Traverse City Comedy Club
URL:https://davelandau.com/event/traverse-city-mi-3/
CATEGORIES:Dave Appearances
END:VEVENT
BEGIN:VEVENT
DTSTART;VALUE=DATE:20241219
DTEND;VALUE=DATE:20241220
DTSTAMP:20260420T155046
CREATED:20241109T184532Z
LAST-MODIFIED:20241109T184532Z
UID:1905-1734566400-1734652799@davelandau.com
SUMMARY:St. Clair Shores\, MI
DESCRIPTION:@Cooper Hop Brewing
URL:https://davelandau.com/event/st-clair-shores-mi/
CATEGORIES:Dave Appearances
END:VEVENT
BEGIN:VEVENT
DTSTART;VALUE=DATE:20241227
DTEND;VALUE=DATE:20241229
DTSTAMP:20260420T155046
CREATED:20240829T225809Z
LAST-MODIFIED:20240829T225809Z
UID:1857-1735257600-1735430399@davelandau.com
SUMMARY:Waterford\, MI
DESCRIPTION:@ One Night Stan’s
URL:https://davelandau.com/event/waterford-mi-2/
CATEGORIES:Dave Appearances
END:VEVENT
BEGIN:VEVENT
DTSTART;VALUE=DATE:20241231
DTEND;VALUE=DATE:20250101
DTSTAMP:20260420T155046
CREATED:20240829T225935Z
LAST-MODIFIED:20240829T225935Z
UID:1859-1735603200-1735689599@davelandau.com
SUMMARY:Waterford\, MI
DESCRIPTION:@ One Night Stan’s
URL:https://davelandau.com/event/waterford-mi-4/
CATEGORIES:Dave Appearances
END:VEVENT
END:VCALENDAR