BEGIN:VCALENDAR
VERSION:2.0
PRODID:-//Dave Landau - ECPv6.15.18//NONSGML v1.0//EN
CALSCALE:GREGORIAN
METHOD:PUBLISH
X-ORIGINAL-URL:https://davelandau.com
X-WR-CALDESC:Events for Dave Landau
REFRESH-INTERVAL;VALUE=DURATION:PT1H
X-Robots-Tag:noindex
X-PUBLISHED-TTL:PT1H
BEGIN:VTIMEZONE
TZID:UTC
BEGIN:STANDARD
TZOFFSETFROM:+0000
TZOFFSETTO:+0000
TZNAME:UTC
DTSTART:20230101T000000
END:STANDARD
END:VTIMEZONE
BEGIN:VEVENT
DTSTART;VALUE=DATE:20241108
DTEND;VALUE=DATE:20241110
DTSTAMP:20260420T140515
CREATED:20240910T055910Z
LAST-MODIFIED:20240910T055910Z
UID:1864-1731024000-1731196799@davelandau.com
SUMMARY:Cuyahoga Falls\, OH
DESCRIPTION:@ The Funny Stop
URL:https://davelandau.com/event/cuyahoga-falls-oh-7/
CATEGORIES:Dave Appearances
END:VEVENT
BEGIN:VEVENT
DTSTART;VALUE=DATE:20241115
DTEND;VALUE=DATE:20241117
DTSTAMP:20260420T140515
CREATED:20240719T170039Z
LAST-MODIFIED:20241025T202816Z
UID:1832-1731628800-1731801599@davelandau.com
SUMMARY:Huntsville\, AL
DESCRIPTION:@ Stand Up Live
URL:https://davelandau.com/event/greenville-sc/
CATEGORIES:Dave Appearances
END:VEVENT
BEGIN:VEVENT
DTSTART;VALUE=DATE:20241121
DTEND;VALUE=DATE:20241122
DTSTAMP:20260420T140515
CREATED:20240913T155650Z
LAST-MODIFIED:20241104T045050Z
UID:1869-1732147200-1732233599@davelandau.com
SUMMARY:Plano\, TX
DESCRIPTION:@ Mic Drop Comedy Plano
URL:https://davelandau.com/event/plano-tx/
CATEGORIES:Dave Appearances
END:VEVENT
BEGIN:VEVENT
DTSTART;VALUE=DATE:20241123
DTEND;VALUE=DATE:20241124
DTSTAMP:20260420T140515
CREATED:20240913T155845Z
LAST-MODIFIED:20240913T155845Z
UID:1871-1732320000-1732406399@davelandau.com
SUMMARY:Clinton Twp\, MI
DESCRIPTION:@ Premiere Events Center
URL:https://davelandau.com/event/clinton-twp-mi-2/
CATEGORIES:Dave Appearances
END:VEVENT
BEGIN:VEVENT
DTSTART;VALUE=DATE:20241129
DTEND;VALUE=DATE:20241201
DTSTAMP:20260420T140515
CREATED:20241019T223658Z
LAST-MODIFIED:20241019T223658Z
UID:1890-1732838400-1733011199@davelandau.com
SUMMARY:Alpharetta\, GA
DESCRIPTION:@American Legion Post 201: Comedy For A Cause (supporting Veterans)
URL:https://davelandau.com/event/alpharetta-ga/
CATEGORIES:Dave Appearances
END:VEVENT
END:VCALENDAR