BEGIN:VCALENDAR
VERSION:2.0
PRODID:-//Dave Landau - ECPv6.15.18//NONSGML v1.0//EN
CALSCALE:GREGORIAN
METHOD:PUBLISH
X-WR-CALNAME:Dave Landau
X-ORIGINAL-URL:https://davelandau.com
X-WR-CALDESC:Events for Dave Landau
REFRESH-INTERVAL;VALUE=DURATION:PT1H
X-Robots-Tag:noindex
X-PUBLISHED-TTL:PT1H
BEGIN:VTIMEZONE
TZID:UTC
BEGIN:STANDARD
TZOFFSETFROM:+0000
TZOFFSETTO:+0000
TZNAME:UTC
DTSTART:20230101T000000
END:STANDARD
END:VTIMEZONE
BEGIN:VEVENT
DTSTART;VALUE=DATE:20240808
DTEND;VALUE=DATE:20240811
DTSTAMP:20260422T161616
CREATED:20240323T154240Z
LAST-MODIFIED:20240630T095302Z
UID:1746-1723075200-1723334399@davelandau.com
SUMMARY:Royal Oak\, MI
DESCRIPTION:@ Mark Ridley’s Comedy Castle
URL:https://davelandau.com/event/royal-oak-mi-4/
CATEGORIES:Dave Appearances
END:VEVENT
BEGIN:VEVENT
DTSTART;VALUE=DATE:20240816
DTEND;VALUE=DATE:20240817
DTSTAMP:20260422T161616
CREATED:20240428T190031Z
LAST-MODIFIED:20240428T190031Z
UID:1786-1723766400-1723852799@davelandau.com
SUMMARY:Albany\, NY
DESCRIPTION:@ The Funny Bone
URL:https://davelandau.com/event/albany-ny-4/
CATEGORIES:Dave Appearances
END:VEVENT
BEGIN:VEVENT
DTSTART;VALUE=DATE:20240817
DTEND;VALUE=DATE:20240818
DTSTAMP:20260422T161616
CREATED:20240428T190307Z
LAST-MODIFIED:20240805T024032Z
UID:1788-1723852800-1723939199@davelandau.com
SUMMARY:Hartford\, CT
DESCRIPTION:@ The Funny Bone
URL:https://davelandau.com/event/hartford-ct-2/
CATEGORIES:Dave Appearances
END:VEVENT
BEGIN:VEVENT
DTSTART;VALUE=DATE:20240821
DTEND;VALUE=DATE:20240822
DTSTAMP:20260422T161616
CREATED:20240613T032446Z
LAST-MODIFIED:20240613T032446Z
UID:1817-1724198400-1724284799@davelandau.com
SUMMARY:Addison\, TX
DESCRIPTION:@ The Improv
URL:https://davelandau.com/event/addison-tx/
CATEGORIES:Dave Appearances
END:VEVENT
BEGIN:VEVENT
DTSTART;VALUE=DATE:20240823
DTEND;VALUE=DATE:20240825
DTSTAMP:20260422T161616
CREATED:20240323T153910Z
LAST-MODIFIED:20240323T154619Z
UID:1743-1724371200-1724543999@davelandau.com
SUMMARY:Des Moines\, IA
DESCRIPTION:@ The Funny Bone
URL:https://davelandau.com/event/des-moines-ia-3/
CATEGORIES:Dave Appearances
END:VEVENT
BEGIN:VEVENT
DTSTART;VALUE=DATE:20240830
DTEND;VALUE=DATE:20240902
DTSTAMP:20260422T161616
CREATED:20240708T032726Z
LAST-MODIFIED:20240708T032726Z
UID:1827-1724976000-1725235199@davelandau.com
SUMMARY:Austin\, TX
DESCRIPTION:@ Comedy Mothership
URL:https://davelandau.com/event/austin-tx-2/
CATEGORIES:Dave Appearances
END:VEVENT
END:VCALENDAR