BEGIN:VCALENDAR
VERSION:2.0
PRODID:-//Dave Landau - ECPv6.15.18//NONSGML v1.0//EN
CALSCALE:GREGORIAN
METHOD:PUBLISH
X-WR-CALNAME:Dave Landau
X-ORIGINAL-URL:https://davelandau.com
X-WR-CALDESC:Events for Dave Landau
REFRESH-INTERVAL;VALUE=DURATION:PT1H
X-Robots-Tag:noindex
X-PUBLISHED-TTL:PT1H
BEGIN:VTIMEZONE
TZID:UTC
BEGIN:STANDARD
TZOFFSETFROM:+0000
TZOFFSETTO:+0000
TZNAME:UTC
DTSTART:20230101T000000
END:STANDARD
END:VTIMEZONE
BEGIN:VEVENT
DTSTART;VALUE=DATE:20240712
DTEND;VALUE=DATE:20240714
DTSTAMP:20260422T174921
CREATED:20240415T015055Z
LAST-MODIFIED:20240415T015055Z
UID:1777-1720742400-1720915199@davelandau.com
SUMMARY:Milwaukee\, WI
DESCRIPTION:@ The Improv
URL:https://davelandau.com/event/milwaukee-wi/
CATEGORIES:Dave Appearances
END:VEVENT
BEGIN:VEVENT
DTSTART;VALUE=DATE:20240719
DTEND;VALUE=DATE:20240721
DTSTAMP:20260422T174921
CREATED:20240415T014627Z
LAST-MODIFIED:20240415T014627Z
UID:1775-1721347200-1721519999@davelandau.com
SUMMARY:Omaha\, NE
DESCRIPTION:@ The Funny Bone
URL:https://davelandau.com/event/omaha-ne-4/
CATEGORIES:Dave Appearances
END:VEVENT
BEGIN:VEVENT
DTSTART;VALUE=DATE:20240726
DTEND;VALUE=DATE:20240728
DTSTAMP:20260422T174921
CREATED:20240119T180048Z
LAST-MODIFIED:20240128T164946Z
UID:1702-1721952000-1722124799@davelandau.com
SUMMARY:Tampa\, FL
DESCRIPTION:@ Sidesplitter’s
URL:https://davelandau.com/event/tampa-fl-6/
CATEGORIES:Dave Appearances
END:VEVENT
END:VCALENDAR