BEGIN:VCALENDAR
VERSION:2.0
PRODID:-//Dave Landau - ECPv6.15.18//NONSGML v1.0//EN
CALSCALE:GREGORIAN
METHOD:PUBLISH
X-WR-CALNAME:Dave Landau
X-ORIGINAL-URL:https://davelandau.com
X-WR-CALDESC:Events for Dave Landau
REFRESH-INTERVAL;VALUE=DURATION:PT1H
X-Robots-Tag:noindex
X-PUBLISHED-TTL:PT1H
BEGIN:VTIMEZONE
TZID:UTC
BEGIN:STANDARD
TZOFFSETFROM:+0000
TZOFFSETTO:+0000
TZNAME:UTC
DTSTART:20230101T000000
END:STANDARD
END:VTIMEZONE
BEGIN:VEVENT
DTSTART;VALUE=DATE:20240531
DTEND;VALUE=DATE:20240602
DTSTAMP:20260422T194652
CREATED:20231230T211829Z
LAST-MODIFIED:20240514T153828Z
UID:1672-1717113600-1717286399@davelandau.com
SUMMARY:Cleveland\, OH
DESCRIPTION:@ Hilarities/Pickwick & Frolic
URL:https://davelandau.com/event/cleveland-oh-4/
CATEGORIES:Dave Appearances
END:VEVENT
BEGIN:VEVENT
DTSTART;VALUE=DATE:20240614
DTEND;VALUE=DATE:20240616
DTSTAMP:20260422T194652
CREATED:20240105T002055Z
LAST-MODIFIED:20240208T200200Z
UID:1678-1718323200-1718495999@davelandau.com
SUMMARY:Fort Wayne\, IN
DESCRIPTION:@ Summit City Comedy Club
URL:https://davelandau.com/event/fart-wayne-in/
CATEGORIES:Dave Appearances
END:VEVENT
BEGIN:VEVENT
DTSTART;VALUE=DATE:20240621
DTEND;VALUE=DATE:20240623
DTSTAMP:20260422T194652
CREATED:20231230T212900Z
LAST-MODIFIED:20231230T212900Z
UID:1674-1718928000-1719100799@davelandau.com
SUMMARY:Poughkeepsie\, NY
DESCRIPTION:@ Laugh It Up
URL:https://davelandau.com/event/poughkeepsie-ny/
CATEGORIES:Dave Appearances
END:VEVENT
BEGIN:VEVENT
DTSTART;VALUE=DATE:20240628
DTEND;VALUE=DATE:20240630
DTSTAMP:20260422T194652
CREATED:20240105T002517Z
LAST-MODIFIED:20240105T002517Z
UID:1680-1719532800-1719705599@davelandau.com
SUMMARY:Tulsa\, OK
DESCRIPTION:@ Bricktown Comedy Club
URL:https://davelandau.com/event/tulsa-ok-5/
CATEGORIES:Dave Appearances
END:VEVENT
END:VCALENDAR