BEGIN:VCALENDAR
VERSION:2.0
PRODID:-//Dave Landau - ECPv6.15.18//NONSGML v1.0//EN
CALSCALE:GREGORIAN
METHOD:PUBLISH
X-ORIGINAL-URL:https://davelandau.com
X-WR-CALDESC:Events for Dave Landau
REFRESH-INTERVAL;VALUE=DURATION:PT1H
X-Robots-Tag:noindex
X-PUBLISHED-TTL:PT1H
BEGIN:VTIMEZONE
TZID:UTC
BEGIN:STANDARD
TZOFFSETFROM:+0000
TZOFFSETTO:+0000
TZNAME:UTC
DTSTART:20230101T000000
END:STANDARD
END:VTIMEZONE
BEGIN:VEVENT
DTSTART;VALUE=DATE:20240501
DTEND;VALUE=DATE:20240502
DTSTAMP:20260423T114150
CREATED:20240414T011823Z
LAST-MODIFIED:20240414T011823Z
UID:1769-1714521600-1714607999@davelandau.com
SUMMARY:Dallas\, TX
DESCRIPTION:@ Dallas Comedy Club
URL:https://davelandau.com/event/dallas-tx-5/
CATEGORIES:Dave Appearances
END:VEVENT
BEGIN:VEVENT
DTSTART;VALUE=DATE:20240504
DTEND;VALUE=DATE:20240505
DTSTAMP:20260423T114150
CREATED:20231118T205241Z
LAST-MODIFIED:20240316T161639Z
UID:1646-1714780800-1714867199@davelandau.com
SUMMARY:Chandler\, AZ
DESCRIPTION:@ Chandler Center for the Arts
URL:https://davelandau.com/event/chandler-az/
CATEGORIES:Dave Appearances
END:VEVENT
BEGIN:VEVENT
DTSTART;VALUE=DATE:20240511
DTEND;VALUE=DATE:20240512
DTSTAMP:20260423T114150
CREATED:20231126T204857Z
LAST-MODIFIED:20231126T204857Z
UID:1654-1715385600-1715471999@davelandau.com
SUMMARY:Billings\, MT
DESCRIPTION:@ Alberta Bair Theater
URL:https://davelandau.com/event/billings-mt/
CATEGORIES:Dave Appearances
END:VEVENT
BEGIN:VEVENT
DTSTART;VALUE=DATE:20240524
DTEND;VALUE=DATE:20240526
DTSTAMP:20260423T114150
CREATED:20240323T160500Z
LAST-MODIFIED:20240323T160500Z
UID:1755-1716508800-1716681599@davelandau.com
SUMMARY:Fort Myers\, FL
DESCRIPTION:@ Snapper’s
URL:https://davelandau.com/event/fort-myers-fl-3/
CATEGORIES:Dave Appearances
END:VEVENT
BEGIN:VEVENT
DTSTART;VALUE=DATE:20240531
DTEND;VALUE=DATE:20240602
DTSTAMP:20260423T114150
CREATED:20231230T211829Z
LAST-MODIFIED:20240514T153828Z
UID:1672-1717113600-1717286399@davelandau.com
SUMMARY:Cleveland\, OH
DESCRIPTION:@ Hilarities/Pickwick & Frolic
URL:https://davelandau.com/event/cleveland-oh-4/
CATEGORIES:Dave Appearances
END:VEVENT
END:VCALENDAR