BEGIN:VCALENDAR
VERSION:2.0
PRODID:-//Dave Landau - ECPv6.15.18//NONSGML v1.0//EN
CALSCALE:GREGORIAN
METHOD:PUBLISH
X-ORIGINAL-URL:https://davelandau.com
X-WR-CALDESC:Events for Dave Landau
REFRESH-INTERVAL;VALUE=DURATION:PT1H
X-Robots-Tag:noindex
X-PUBLISHED-TTL:PT1H
BEGIN:VTIMEZONE
TZID:UTC
BEGIN:STANDARD
TZOFFSETFROM:+0000
TZOFFSETTO:+0000
TZNAME:UTC
DTSTART:20230101T000000
END:STANDARD
END:VTIMEZONE
BEGIN:VEVENT
DTSTART;VALUE=DATE:20240302
DTEND;VALUE=DATE:20240303
DTSTAMP:20260420T222637
CREATED:20240208T201804Z
LAST-MODIFIED:20240208T201804Z
UID:1712-1709337600-1709423999@davelandau.com
SUMMARY:Colombus\, MI
DESCRIPTION:@ T’s Roadhouse
URL:https://davelandau.com/event/colombus-mi/
CATEGORIES:Dave Appearances
END:VEVENT
BEGIN:VEVENT
DTSTART;VALUE=DATE:20240308
DTEND;VALUE=DATE:20240309
DTSTAMP:20260420T222637
CREATED:20231230T161336Z
LAST-MODIFIED:20231230T161336Z
UID:1668-1709856000-1709942399@davelandau.com
SUMMARY:Brighton\, MI
DESCRIPTION:@ Sam Rose Comedy Presents Dave Landau at A Wilde Theatre
URL:https://davelandau.com/event/brighton-mi/
CATEGORIES:Dave Appearances
END:VEVENT
BEGIN:VEVENT
DTSTART;VALUE=DATE:20240309
DTEND;VALUE=DATE:20240310
DTSTAMP:20260420T222637
CREATED:20231107T043158Z
LAST-MODIFIED:20231107T043158Z
UID:1621-1709942400-1710028799@davelandau.com
SUMMARY:Private Show
DESCRIPTION:@ Private Show
URL:https://davelandau.com/event/private-show-3/
CATEGORIES:Dave Appearances
END:VEVENT
BEGIN:VEVENT
DTSTART;VALUE=DATE:20240315
DTEND;VALUE=DATE:20240317
DTSTAMP:20260420T222637
CREATED:20231111T222206Z
LAST-MODIFIED:20231111T222206Z
UID:1627-1710460800-1710633599@davelandau.com
SUMMARY:Fort Worth\, TX
DESCRIPTION:@ Hyena’s Red Room
URL:https://davelandau.com/event/fort-worth-tx/
CATEGORIES:Dave Appearances
END:VEVENT
BEGIN:VEVENT
DTSTART;VALUE=DATE:20240322
DTEND;VALUE=DATE:20240323
DTSTAMP:20260420T222637
CREATED:20240112T194754Z
LAST-MODIFIED:20240112T194754Z
UID:1692-1711065600-1711151999@davelandau.com
SUMMARY:Galena\, IL
DESCRIPTION:@ Eagle Ridge Resort
URL:https://davelandau.com/event/galena-il/
CATEGORIES:Dave Appearances
END:VEVENT
BEGIN:VEVENT
DTSTART;VALUE=DATE:20240322
DTEND;VALUE=DATE:20240323
DTSTAMP:20260420T222637
CREATED:20241214T165233Z
LAST-MODIFIED:20241214T165233Z
UID:1953-1711065600-1711151999@davelandau.com
SUMMARY:Rochester\, MI
DESCRIPTION:@ The Roxy
URL:https://davelandau.com/event/rochester-mi-2/
CATEGORIES:Dave Appearances
END:VEVENT
BEGIN:VEVENT
DTSTART;VALUE=DATE:20240323
DTEND;VALUE=DATE:20240324
DTSTAMP:20260420T222637
CREATED:20240112T194352Z
LAST-MODIFIED:20240112T194352Z
UID:1690-1711152000-1711238399@davelandau.com
SUMMARY:Beloit\, WI
DESCRIPTION:@ ABC Supply Stadium
URL:https://davelandau.com/event/beloit-wi/
CATEGORIES:Dave Appearances
END:VEVENT
BEGIN:VEVENT
DTSTART;VALUE=DATE:20240329
DTEND;VALUE=DATE:20240330
DTSTAMP:20260420T222637
CREATED:20231118T202212Z
LAST-MODIFIED:20231118T202212Z
UID:1636-1711670400-1711756799@davelandau.com
SUMMARY:Morris Plains\, NJ
DESCRIPTION:@ The Comedy Dojo @ Tiff’s
URL:https://davelandau.com/event/morris-plains-nj-3/
CATEGORIES:Dave Appearances
END:VEVENT
BEGIN:VEVENT
DTSTART;VALUE=DATE:20240331
DTEND;VALUE=DATE:20240401
DTSTAMP:20260420T222637
CREATED:20240117T181517Z
LAST-MODIFIED:20240117T181517Z
UID:1697-1711843200-1711929599@davelandau.com
SUMMARY:Nashville\, TN
DESCRIPTION:@ Zanies
URL:https://davelandau.com/event/nashville-tn-2/
CATEGORIES:Dave Appearances
END:VEVENT
END:VCALENDAR