BEGIN:VCALENDAR
VERSION:2.0
PRODID:-//Dave Landau - ECPv6.15.18//NONSGML v1.0//EN
CALSCALE:GREGORIAN
METHOD:PUBLISH
X-ORIGINAL-URL:https://davelandau.com
X-WR-CALDESC:Events for Dave Landau
REFRESH-INTERVAL;VALUE=DURATION:PT1H
X-Robots-Tag:noindex
X-PUBLISHED-TTL:PT1H
BEGIN:VTIMEZONE
TZID:UTC
BEGIN:STANDARD
TZOFFSETFROM:+0000
TZOFFSETTO:+0000
TZNAME:UTC
DTSTART:20230101T000000
END:STANDARD
END:VTIMEZONE
BEGIN:VEVENT
DTSTART;VALUE=DATE:20240202
DTEND;VALUE=DATE:20240203
DTSTAMP:20260420T203648
CREATED:20231107T042440Z
LAST-MODIFIED:20231107T042440Z
UID:1617-1706832000-1706918399@davelandau.com
SUMMARY:Private Show
DESCRIPTION:@ Private Show
URL:https://davelandau.com/event/private-show-2/
CATEGORIES:Dave Appearances
END:VEVENT
BEGIN:VEVENT
DTSTART;VALUE=DATE:20240212
DTEND;VALUE=DATE:20240219
DTSTAMP:20260420T203649
CREATED:20231107T043016Z
LAST-MODIFIED:20231107T043016Z
UID:1619-1707696000-1708300799@davelandau.com
SUMMARY:Las Vegas\, NV
DESCRIPTION:Brad Garrett’s Comedy Club @ The MGM
URL:https://davelandau.com/event/las-vegas-nv-3/
CATEGORIES:Dave Appearances
END:VEVENT
BEGIN:VEVENT
DTSTART;VALUE=DATE:20240213
DTEND;VALUE=DATE:20240217
DTSTAMP:20260420T203649
CREATED:20241208T200304Z
LAST-MODIFIED:20241208T200304Z
UID:1932-1707782400-1708127999@davelandau.com
SUMMARY:Key West\, FL
DESCRIPTION:@ Comedy Key West
URL:https://davelandau.com/event/key-west-fl-2/
CATEGORIES:Dave Appearances
END:VEVENT
BEGIN:VEVENT
DTSTART;VALUE=DATE:20240223
DTEND;VALUE=DATE:20240225
DTSTAMP:20260420T203649
CREATED:20240119T165203Z
LAST-MODIFIED:20240119T165203Z
UID:1700-1708646400-1708819199@davelandau.com
SUMMARY:Saratoga Springs\, NY
DESCRIPTION:@ The Comedy Works
URL:https://davelandau.com/event/saratoga-springs-ny-2/
CATEGORIES:Dave Appearances
END:VEVENT
END:VCALENDAR