BEGIN:VCALENDAR
VERSION:2.0
PRODID:-//Dave Landau - ECPv6.15.18//NONSGML v1.0//EN
CALSCALE:GREGORIAN
METHOD:PUBLISH
X-ORIGINAL-URL:https://davelandau.com
X-WR-CALDESC:Events for Dave Landau
REFRESH-INTERVAL;VALUE=DURATION:PT1H
X-Robots-Tag:noindex
X-PUBLISHED-TTL:PT1H
BEGIN:VTIMEZONE
TZID:UTC
BEGIN:STANDARD
TZOFFSETFROM:+0000
TZOFFSETTO:+0000
TZNAME:UTC
DTSTART:20220101T000000
END:STANDARD
END:VTIMEZONE
BEGIN:VEVENT
DTSTART;VALUE=DATE:20231208
DTEND;VALUE=DATE:20231210
DTSTAMP:20260420T173310
CREATED:20230901T181856Z
LAST-MODIFIED:20231030T040837Z
UID:1583-1701993600-1702166399@davelandau.com
SUMMARY:Syracuse\, NY
DESCRIPTION:@ The Funny Bone
URL:https://davelandau.com/event/syracuse-ny-3/
CATEGORIES:Dave Appearances
END:VEVENT
BEGIN:VEVENT
DTSTART;VALUE=DATE:20231215
DTEND;VALUE=DATE:20231216
DTSTAMP:20260420T173310
CREATED:20230522T183545Z
LAST-MODIFIED:20230809T004112Z
UID:1475-1702598400-1702684799@davelandau.com
SUMMARY:Indianapolis\, IN
DESCRIPTION:@ The Irving Theater
URL:https://davelandau.com/event/indianapolis-in-2/
CATEGORIES:Dave Appearances
END:VEVENT
BEGIN:VEVENT
DTSTART;VALUE=DATE:20231216
DTEND;VALUE=DATE:20231217
DTSTAMP:20260420T173310
CREATED:20230522T174315Z
LAST-MODIFIED:20230809T004418Z
UID:1471-1702684800-1702771199@davelandau.com
SUMMARY:Hobart\, IN
DESCRIPTION:@ The Art Theatre
URL:https://davelandau.com/event/hobart-in/
CATEGORIES:Dave Appearances
END:VEVENT
BEGIN:VEVENT
DTSTART;VALUE=DATE:20231221
DTEND;VALUE=DATE:20231223
DTSTAMP:20260420T173310
CREATED:20230901T182101Z
LAST-MODIFIED:20230901T182101Z
UID:1586-1703116800-1703289599@davelandau.com
SUMMARY:Virginia Beach\, VA
DESCRIPTION:@ The Funny Bone
URL:https://davelandau.com/event/virginia-beach-va-3/
CATEGORIES:Dave Appearances
END:VEVENT
BEGIN:VEVENT
DTSTART;VALUE=DATE:20231229
DTEND;VALUE=DATE:20240101
DTSTAMP:20260420T173310
CREATED:20230825T234752Z
LAST-MODIFIED:20230825T234752Z
UID:1577-1703808000-1704067199@davelandau.com
SUMMARY:Huntsville\, AL
DESCRIPTION:@ Stand Up Live
URL:https://davelandau.com/event/huntsville-al/
CATEGORIES:Dave Appearances
END:VEVENT
END:VCALENDAR