BEGIN:VCALENDAR
VERSION:2.0
PRODID:-//Dave Landau - ECPv6.15.18//NONSGML v1.0//EN
CALSCALE:GREGORIAN
METHOD:PUBLISH
X-WR-CALNAME:Dave Landau
X-ORIGINAL-URL:https://davelandau.com
X-WR-CALDESC:Events for Dave Landau
REFRESH-INTERVAL;VALUE=DURATION:PT1H
X-Robots-Tag:noindex
X-PUBLISHED-TTL:PT1H
BEGIN:VTIMEZONE
TZID:UTC
BEGIN:STANDARD
TZOFFSETFROM:+0000
TZOFFSETTO:+0000
TZNAME:UTC
DTSTART:20220101T000000
END:STANDARD
END:VTIMEZONE
BEGIN:VEVENT
DTSTART;VALUE=DATE:20230701
DTEND;VALUE=DATE:20230702
DTSTAMP:20260420T090555
CREATED:20230528T055027Z
LAST-MODIFIED:20230528T055027Z
UID:1488-1688169600-1688255999@davelandau.com
SUMMARY:Emily\, MN
DESCRIPTION:@ Big Al’s
URL:https://davelandau.com/event/emily-mn-3/
CATEGORIES:Dave Appearances
END:VEVENT
BEGIN:VEVENT
DTSTART;VALUE=DATE:20230714
DTEND;VALUE=DATE:20230716
DTSTAMP:20260420T090555
CREATED:20230603T055959Z
LAST-MODIFIED:20230603T055959Z
UID:1490-1689292800-1689465599@davelandau.com
SUMMARY:Jacksonville\, FL
DESCRIPTION:@ The Comedy Zone
URL:https://davelandau.com/event/jacksonville-fl/
CATEGORIES:Dave Appearances
END:VEVENT
BEGIN:VEVENT
DTSTART;VALUE=DATE:20230721
DTEND;VALUE=DATE:20230723
DTSTAMP:20260420T090555
CREATED:20230412T134206Z
LAST-MODIFIED:20230412T134206Z
UID:1402-1689897600-1690070399@davelandau.com
SUMMARY:Columbus\, OH
DESCRIPTION:@ The Funny Bone
URL:https://davelandau.com/event/columbus-oh-4/
CATEGORIES:Dave Appearances
END:VEVENT
BEGIN:VEVENT
DTSTART;VALUE=DATE:20230728
DTEND;VALUE=DATE:20230730
DTSTAMP:20260420T090555
CREATED:20230424T091424Z
LAST-MODIFIED:20230424T091424Z
UID:1417-1690502400-1690675199@davelandau.com
SUMMARY:Omaha\, NE
DESCRIPTION:@ The Funny Bone
URL:https://davelandau.com/event/omaha-ne-3/
CATEGORIES:Dave Appearances
END:VEVENT
END:VCALENDAR