BEGIN:VCALENDAR
VERSION:2.0
PRODID:-//Dave Landau - ECPv6.15.18//NONSGML v1.0//EN
CALSCALE:GREGORIAN
METHOD:PUBLISH
X-ORIGINAL-URL:https://davelandau.com
X-WR-CALDESC:Events for Dave Landau
REFRESH-INTERVAL;VALUE=DURATION:PT1H
X-Robots-Tag:noindex
X-PUBLISHED-TTL:PT1H
BEGIN:VTIMEZONE
TZID:UTC
BEGIN:STANDARD
TZOFFSETFROM:+0000
TZOFFSETTO:+0000
TZNAME:UTC
DTSTART:20210101T000000
END:STANDARD
END:VTIMEZONE
BEGIN:VEVENT
DTSTART;VALUE=DATE:20221104
DTEND;VALUE=DATE:20221106
DTSTAMP:20260420T090929
CREATED:20220924T022855Z
LAST-MODIFIED:20220924T022855Z
UID:1194-1667520000-1667692799@davelandau.com
SUMMARY:Tampa\, FL
DESCRIPTION:@ The Improv
URL:https://davelandau.com/event/tampa-fl-4/
CATEGORIES:Dave Appearances
END:VEVENT
BEGIN:VEVENT
DTSTART;VALUE=DATE:20221112
DTEND;VALUE=DATE:20221113
DTSTAMP:20260420T090929
CREATED:20220705T024357Z
LAST-MODIFIED:20220705T024433Z
UID:1155-1668211200-1668297599@davelandau.com
SUMMARY:Nashville\, TN
DESCRIPTION:@ Ryman Auditorium (Rebels with a Cause Tour) \n7 & 9:30pm shows
URL:https://davelandau.com/event/nashville-tn/
CATEGORIES:Dave Appearances
END:VEVENT
BEGIN:VEVENT
DTSTART;VALUE=DATE:20221118
DTEND;VALUE=DATE:20221120
DTSTAMP:20260420T090929
CREATED:20220924T023458Z
LAST-MODIFIED:20220924T023458Z
UID:1196-1668729600-1668902399@davelandau.com
SUMMARY:Richmond\, VA
DESCRIPTION:@ The Funny Bone
URL:https://davelandau.com/event/richmond-va/
CATEGORIES:Dave Appearances
END:VEVENT
BEGIN:VEVENT
DTSTART;VALUE=DATE:20221126
DTEND;VALUE=DATE:20221127
DTSTAMP:20260420T090929
CREATED:20211207T035037Z
LAST-MODIFIED:20221111T063739Z
UID:948-1669420800-1669507199@davelandau.com
SUMMARY:Munhall\, PA
DESCRIPTION:@ Carnegie of Homestead Music Hall
URL:https://davelandau.com/event/munhall-pa-2/
CATEGORIES:Dave Appearances
END:VEVENT
END:VCALENDAR