BEGIN:VCALENDAR
VERSION:2.0
PRODID:-//Dave Landau - ECPv6.15.18//NONSGML v1.0//EN
CALSCALE:GREGORIAN
METHOD:PUBLISH
X-ORIGINAL-URL:https://davelandau.com
X-WR-CALDESC:Events for Dave Landau
REFRESH-INTERVAL;VALUE=DURATION:PT1H
X-Robots-Tag:noindex
X-PUBLISHED-TTL:PT1H
BEGIN:VTIMEZONE
TZID:UTC
BEGIN:STANDARD
TZOFFSETFROM:+0000
TZOFFSETTO:+0000
TZNAME:UTC
DTSTART:20210101T000000
END:STANDARD
END:VTIMEZONE
BEGIN:VEVENT
DTSTART;VALUE=DATE:20220909
DTEND;VALUE=DATE:20220911
DTSTAMP:20260420T123146
CREATED:20220705T021737Z
LAST-MODIFIED:20220705T021737Z
UID:1145-1662681600-1662854399@davelandau.com
SUMMARY:Port Charlotte\, FL
DESCRIPTION:@ Visani’s Comedy Theatre
URL:https://davelandau.com/event/port-charlotte-fl-3/
CATEGORIES:Dave Appearances
END:VEVENT
BEGIN:VEVENT
DTSTART;VALUE=DATE:20220916
DTEND;VALUE=DATE:20220917
DTSTAMP:20260420T123146
CREATED:20220626T051119Z
LAST-MODIFIED:20220626T051119Z
UID:1136-1663286400-1663372799@davelandau.com
SUMMARY:Phoenix\, AZ
DESCRIPTION:Rebels With A Cause Tour at Arizona Federal Theatre
URL:https://davelandau.com/event/phoenix-az/
CATEGORIES:Dave Appearances
END:VEVENT
BEGIN:VEVENT
DTSTART;VALUE=DATE:20220917
DTEND;VALUE=DATE:20220918
DTSTAMP:20260420T123146
CREATED:20220626T051659Z
LAST-MODIFIED:20220626T051659Z
UID:1138-1663372800-1663459199@davelandau.com
SUMMARY:Houston\, TX
DESCRIPTION:“Rebels with a Cause Tour” at Smart Financial Center @ Sugar Land
URL:https://davelandau.com/event/houston-tx-2/
CATEGORIES:Dave Appearances
END:VEVENT
END:VCALENDAR