BEGIN:VCALENDAR
VERSION:2.0
PRODID:-//Dave Landau - ECPv6.15.18//NONSGML v1.0//EN
CALSCALE:GREGORIAN
METHOD:PUBLISH
X-WR-CALNAME:Dave Landau
X-ORIGINAL-URL:https://davelandau.com
X-WR-CALDESC:Events for Dave Landau
REFRESH-INTERVAL;VALUE=DURATION:PT1H
X-Robots-Tag:noindex
X-PUBLISHED-TTL:PT1H
BEGIN:VTIMEZONE
TZID:UTC
BEGIN:STANDARD
TZOFFSETFROM:+0000
TZOFFSETTO:+0000
TZNAME:UTC
DTSTART:20210101T000000
END:STANDARD
END:VTIMEZONE
BEGIN:VEVENT
DTSTART;VALUE=DATE:20220709
DTEND;VALUE=DATE:20220710
DTSTAMP:20260420T155045
CREATED:20220430T134947Z
LAST-MODIFIED:20220430T134947Z
UID:1102-1657324800-1657411199@davelandau.com
SUMMARY:Lapeer\, MI
DESCRIPTION:@ Flanagan’s Pub
URL:https://davelandau.com/event/lapeer-mi/
CATEGORIES:Dave Appearances
END:VEVENT
BEGIN:VEVENT
DTSTART;VALUE=DATE:20220715
DTEND;VALUE=DATE:20220717
DTSTAMP:20260420T155045
CREATED:20220607T064028Z
LAST-MODIFIED:20220607T064028Z
UID:1120-1657843200-1658015999@davelandau.com
SUMMARY:Columbus\, OH
DESCRIPTION:@ The Funnybone
URL:https://davelandau.com/event/columbus-oh-3/
CATEGORIES:Dave Appearances
END:VEVENT
BEGIN:VEVENT
DTSTART;VALUE=DATE:20220729
DTEND;VALUE=DATE:20220731
DTSTAMP:20260420T155045
CREATED:20220613T172623Z
LAST-MODIFIED:20220613T172623Z
UID:1124-1659052800-1659225599@davelandau.com
SUMMARY:Omaha\, NE
DESCRIPTION:@The Funnybone
URL:https://davelandau.com/event/omaha-ne-2/
CATEGORIES:Dave Appearances
END:VEVENT
END:VCALENDAR