BEGIN:VCALENDAR
VERSION:2.0
PRODID:-//Dave Landau - ECPv6.15.18//NONSGML v1.0//EN
CALSCALE:GREGORIAN
METHOD:PUBLISH
X-WR-CALNAME:Dave Landau
X-ORIGINAL-URL:https://davelandau.com
X-WR-CALDESC:Events for Dave Landau
REFRESH-INTERVAL;VALUE=DURATION:PT1H
X-Robots-Tag:noindex
X-PUBLISHED-TTL:PT1H
BEGIN:VTIMEZONE
TZID:UTC
BEGIN:STANDARD
TZOFFSETFROM:+0000
TZOFFSETTO:+0000
TZNAME:UTC
DTSTART:20210101T000000
END:STANDARD
END:VTIMEZONE
BEGIN:VEVENT
DTSTART;VALUE=DATE:20220408
DTEND;VALUE=DATE:20220409
DTSTAMP:20260420T211110
CREATED:20220201T014241Z
LAST-MODIFIED:20220201T014241Z
UID:1023-1649376000-1649462399@davelandau.com
SUMMARY:Joliet\, IL
DESCRIPTION:@ The Rialto Theatre
URL:https://davelandau.com/event/joliet-il/
CATEGORIES:Dave Appearances
END:VEVENT
BEGIN:VEVENT
DTSTART;VALUE=DATE:20220409
DTEND;VALUE=DATE:20220410
DTSTAMP:20260420T211110
CREATED:20211221T041123Z
LAST-MODIFIED:20211221T041123Z
UID:960-1649462400-1649548799@davelandau.com
SUMMARY:Waukegan\, IL
DESCRIPTION:@ The Genesee Theatre
URL:https://davelandau.com/event/waukegan-il/
CATEGORIES:Dave Appearances
END:VEVENT
BEGIN:VEVENT
DTSTART;VALUE=DATE:20220416
DTEND;VALUE=DATE:20220417
DTSTAMP:20260420T211110
CREATED:20220311T042747Z
LAST-MODIFIED:20220311T043137Z
UID:1045-1650067200-1650153599@davelandau.com
SUMMARY:Royal Oak\, MI
DESCRIPTION:@ Royal Oak Music Theatre
URL:https://davelandau.com/event/royal-oak-mi/
CATEGORIES:Dave Appearances
END:VEVENT
BEGIN:VEVENT
DTSTART;VALUE=DATE:20220423
DTEND;VALUE=DATE:20220424
DTSTAMP:20260420T211110
CREATED:20220311T043038Z
LAST-MODIFIED:20220403T150555Z
UID:1047-1650672000-1650758399@davelandau.com
SUMMARY:Virginia Beach\, VA
DESCRIPTION:@ The Funnybone
URL:https://davelandau.com/event/virginia-beach-va-2/
CATEGORIES:Dave Appearances
END:VEVENT
END:VCALENDAR