BEGIN:VCALENDAR
VERSION:2.0
PRODID:-//Dave Landau - ECPv6.15.18//NONSGML v1.0//EN
CALSCALE:GREGORIAN
METHOD:PUBLISH
X-WR-CALNAME:Dave Landau
X-ORIGINAL-URL:https://davelandau.com
X-WR-CALDESC:Events for Dave Landau
REFRESH-INTERVAL;VALUE=DURATION:PT1H
X-Robots-Tag:noindex
X-PUBLISHED-TTL:PT1H
BEGIN:VTIMEZONE
TZID:UTC
BEGIN:STANDARD
TZOFFSETFROM:+0000
TZOFFSETTO:+0000
TZNAME:UTC
DTSTART:20210101T000000
END:STANDARD
END:VTIMEZONE
BEGIN:VEVENT
DTSTART;VALUE=DATE:20220204
DTEND;VALUE=DATE:20220206
DTSTAMP:20260421T010722
CREATED:20220101T130139Z
LAST-MODIFIED:20220101T130139Z
UID:963-1643932800-1644105599@davelandau.com
SUMMARY:Denver\, CO
DESCRIPTION:@ The Improv
URL:https://davelandau.com/event/denver-co/
CATEGORIES:Dave Appearances
END:VEVENT
BEGIN:VEVENT
DTSTART;VALUE=DATE:20220212
DTEND;VALUE=DATE:20220213
DTSTAMP:20260421T010722
CREATED:20211203T030344Z
LAST-MODIFIED:20211203T030344Z
UID:936-1644624000-1644710399@davelandau.com
SUMMARY:Dallas\, TX
DESCRIPTION:@ The Majestic Theatre
URL:https://davelandau.com/event/dallas-tx-2/
LOCATION:Majesric
CATEGORIES:Dave Appearances
END:VEVENT
END:VCALENDAR