BEGIN:VCALENDAR
VERSION:2.0
PRODID:-//Dave Landau - ECPv6.15.18//NONSGML v1.0//EN
CALSCALE:GREGORIAN
METHOD:PUBLISH
X-ORIGINAL-URL:https://davelandau.com
X-WR-CALDESC:Events for Dave Landau
REFRESH-INTERVAL;VALUE=DURATION:PT1H
X-Robots-Tag:noindex
X-PUBLISHED-TTL:PT1H
BEGIN:VTIMEZONE
TZID:UTC
BEGIN:STANDARD
TZOFFSETFROM:+0000
TZOFFSETTO:+0000
TZNAME:UTC
DTSTART:20200101T000000
END:STANDARD
END:VTIMEZONE
BEGIN:VEVENT
DTSTART;VALUE=DATE:20211230
DTEND;VALUE=DATE:20220102
DTSTAMP:20260421T030528
CREATED:20210707T021502Z
LAST-MODIFIED:20210707T021502Z
UID:856-1640822400-1641081599@davelandau.com
SUMMARY:Buffalo\, NY
DESCRIPTION:@ Helium
URL:https://davelandau.com/event/buffalo-ny-2/
CATEGORIES:Dave Appearances
END:VEVENT
BEGIN:VEVENT
DTSTART;VALUE=DATE:20220108
DTEND;VALUE=DATE:20220109
DTSTAMP:20260421T030528
CREATED:20211207T032125Z
LAST-MODIFIED:20211207T032125Z
UID:942-1641600000-1641686399@davelandau.com
SUMMARY:Hays\, KS
DESCRIPTION:@ The Fox Theatre \nDetails for both shows below: \nMatinee show:\n4:30 pm – Doors open\n5:00pm – Show starts \nTickets for the Matinee show can be purchased here: https://www.eventbrite.com/e/dave-landau-matinee-comedy-show-tickets-220431044187 \nPrime Time show + meal:\n6:30 – Doors open\n7:00 – Meal served\n7:30 – Show starts \nTickets for the Prime Time show can be purchased here: https://www.eventbrite.com/e/dave-landau-prime-time-comedy-show-tickets-220931340587
URL:https://davelandau.com/event/hays-ks/
CATEGORIES:Dave Appearances
END:VEVENT
BEGIN:VEVENT
DTSTART;VALUE=DATE:20220115
DTEND;VALUE=DATE:20220116
DTSTAMP:20260421T030528
CREATED:20211205T153751Z
LAST-MODIFIED:20211205T153751Z
UID:940-1642204800-1642291199@davelandau.com
SUMMARY:Redding\, CA
DESCRIPTION:@ Redding Civic Auditorium
URL:https://davelandau.com/event/redding-ca/
CATEGORIES:Dave Appearances
END:VEVENT
BEGIN:VEVENT
DTSTART;VALUE=DATE:20220116
DTEND;VALUE=DATE:20220117
DTSTAMP:20260421T030528
CREATED:20211207T033639Z
LAST-MODIFIED:20211207T033639Z
UID:945-1642291200-1642377599@davelandau.com
SUMMARY:Sacramento\, CA
DESCRIPTION:@Crest Theatre
URL:https://davelandau.com/event/sacramento-ca/
CATEGORIES:Dave Appearances
END:VEVENT
BEGIN:VEVENT
DTSTART;VALUE=DATE:20220121
DTEND;VALUE=DATE:20220122
DTSTAMP:20260421T030528
CREATED:20211215T184855Z
LAST-MODIFIED:20211215T184855Z
UID:951-1642723200-1642809599@davelandau.com
SUMMARY:Clinton Twp\, MI
DESCRIPTION:@ Comedy Against Cancer Fundraiser
URL:https://davelandau.com/event/clinton-twp-mi/
CATEGORIES:Dave Appearances
END:VEVENT
BEGIN:VEVENT
DTSTART;VALUE=DATE:20220128
DTEND;VALUE=DATE:20220130
DTSTAMP:20260421T030528
CREATED:20211215T185613Z
LAST-MODIFIED:20211215T185613Z
UID:955-1643328000-1643500799@davelandau.com
SUMMARY:Cuyahoga Falls\, OH
DESCRIPTION:@ The Funny Stop
URL:https://davelandau.com/event/cuyahoga-falls-oh-2/
CATEGORIES:Dave Appearances
END:VEVENT
END:VCALENDAR