BEGIN:VCALENDAR
VERSION:2.0
PRODID:-//Dave Landau - ECPv6.15.18//NONSGML v1.0//EN
CALSCALE:GREGORIAN
METHOD:PUBLISH
X-WR-CALNAME:Dave Landau
X-ORIGINAL-URL:https://davelandau.com
X-WR-CALDESC:Events for Dave Landau
REFRESH-INTERVAL;VALUE=DURATION:PT1H
X-Robots-Tag:noindex
X-PUBLISHED-TTL:PT1H
BEGIN:VTIMEZONE
TZID:UTC
BEGIN:STANDARD
TZOFFSETFROM:+0000
TZOFFSETTO:+0000
TZNAME:UTC
DTSTART:20200101T000000
END:STANDARD
END:VTIMEZONE
BEGIN:VEVENT
DTSTART;VALUE=DATE:20211105
DTEND;VALUE=DATE:20211107
DTSTAMP:20260421T064736
CREATED:20210707T015241Z
LAST-MODIFIED:20210707T020054Z
UID:848-1636070400-1636243199@davelandau.com
SUMMARY:Philadelphia\, PA
DESCRIPTION:@ Helium
URL:https://davelandau.com/event/philadelphia-pa-2/
CATEGORIES:Dave Appearances
END:VEVENT
BEGIN:VEVENT
DTSTART;VALUE=DATE:20211111
DTEND;VALUE=DATE:20211112
DTSTAMP:20260421T064736
CREATED:20211005T022251Z
LAST-MODIFIED:20211005T181120Z
UID:898-1636588800-1636675199@davelandau.com
SUMMARY:Wichita\, KS
DESCRIPTION:@ The Cotillion
URL:https://davelandau.com/event/wichita-ks-2/
CATEGORIES:Dave Appearances
END:VEVENT
BEGIN:VEVENT
DTSTART;VALUE=DATE:20211119
DTEND;VALUE=DATE:20211121
DTSTAMP:20260421T064736
CREATED:20210812T054404Z
LAST-MODIFIED:20210812T054404Z
UID:872-1637280000-1637452799@davelandau.com
SUMMARY:Naples\, FL
DESCRIPTION:@ Off The Hook Comedy Club
URL:https://davelandau.com/event/naples-fl/
CATEGORIES:Dave Appearances
END:VEVENT
BEGIN:VEVENT
DTSTART;VALUE=DATE:20211124
DTEND;VALUE=DATE:20211125
DTSTAMP:20260421T064736
CREATED:20210707T020505Z
LAST-MODIFIED:20210707T020648Z
UID:854-1637712000-1637798399@davelandau.com
SUMMARY:Liberty Township\, OH
DESCRIPTION:@ The Funnybone
URL:https://davelandau.com/event/liberty-township-oh/
CATEGORIES:Dave Appearances
END:VEVENT
END:VCALENDAR