BEGIN:VCALENDAR
VERSION:2.0
PRODID:-//Dave Landau - ECPv6.15.18//NONSGML v1.0//EN
CALSCALE:GREGORIAN
METHOD:PUBLISH
X-WR-CALNAME:Dave Landau
X-ORIGINAL-URL:https://davelandau.com
X-WR-CALDESC:Events for Dave Landau
REFRESH-INTERVAL;VALUE=DURATION:PT1H
X-Robots-Tag:noindex
X-PUBLISHED-TTL:PT1H
BEGIN:VTIMEZONE
TZID:UTC
BEGIN:STANDARD
TZOFFSETFROM:+0000
TZOFFSETTO:+0000
TZNAME:UTC
DTSTART:20200101T000000
END:STANDARD
END:VTIMEZONE
BEGIN:VEVENT
DTSTART;VALUE=DATE:20211001
DTEND;VALUE=DATE:20211002
DTSTAMP:20260421T082939
CREATED:20210601T001717Z
LAST-MODIFIED:20210616T003005Z
UID:832-1633046400-1633132799@davelandau.com
SUMMARY:Munhall\, PA @ Carnegie Music Hall
DESCRIPTION:@ Carnegie Of Homestead Music Hall
URL:https://davelandau.com/event/munhall-pa/
CATEGORIES:Dave Appearances
END:VEVENT
BEGIN:VEVENT
DTSTART;VALUE=DATE:20211015
DTEND;VALUE=DATE:20211017
DTSTAMP:20260421T082939
CREATED:20210707T015059Z
LAST-MODIFIED:20210707T020128Z
UID:846-1634256000-1634428799@davelandau.com
SUMMARY:Orlando\, FL
DESCRIPTION:@ The Improv
URL:https://davelandau.com/event/orlando-fl/
CATEGORIES:Dave Appearances
END:VEVENT
BEGIN:VEVENT
DTSTART;VALUE=DATE:20211022
DTEND;VALUE=DATE:20211024
DTSTAMP:20260421T082939
CREATED:20210805T142943Z
LAST-MODIFIED:20210921T193124Z
UID:870-1634860800-1635033599@davelandau.com
SUMMARY:Tampa\, FL
DESCRIPTION:@ The Improv
URL:https://davelandau.com/event/tampa-fl-2/
CATEGORIES:Dave Appearances
END:VEVENT
BEGIN:VEVENT
DTSTART;VALUE=DATE:20211022
DTEND;VALUE=DATE:20211024
DTSTAMP:20260421T082939
CREATED:20210916T192853Z
LAST-MODIFIED:20210916T192853Z
UID:888-1634860800-1635033599@davelandau.com
SUMMARY:Tampa\, FL
DESCRIPTION:@ The Improv
URL:https://davelandau.com/event/tampa-fl-3/
CATEGORIES:Dave Appearances
END:VEVENT
BEGIN:VEVENT
DTSTART;VALUE=DATE:20211025
DTEND;VALUE=DATE:20211026
DTSTAMP:20260421T082939
CREATED:20211006T010451Z
LAST-MODIFIED:20211006T010451Z
UID:912-1635120000-1635206399@davelandau.com
SUMMARY:Pleasanton\, CA
DESCRIPTION:@ Tommy T’s
URL:https://davelandau.com/event/pleasanton-ca/
CATEGORIES:Dave Appearances
END:VEVENT
END:VCALENDAR