BEGIN:VCALENDAR
VERSION:2.0
PRODID:-//Dave Landau - ECPv6.15.18//NONSGML v1.0//EN
CALSCALE:GREGORIAN
METHOD:PUBLISH
X-ORIGINAL-URL:https://davelandau.com
X-WR-CALDESC:Events for Dave Landau
REFRESH-INTERVAL;VALUE=DURATION:PT1H
X-Robots-Tag:noindex
X-PUBLISHED-TTL:PT1H
BEGIN:VTIMEZONE
TZID:UTC
BEGIN:STANDARD
TZOFFSETFROM:+0000
TZOFFSETTO:+0000
TZNAME:UTC
DTSTART:20200101T000000
END:STANDARD
END:VTIMEZONE
BEGIN:VEVENT
DTSTART;VALUE=DATE:20210903
DTEND;VALUE=DATE:20210905
DTSTAMP:20260421T101008
CREATED:20210306T200806Z
LAST-MODIFIED:20210309T023057Z
UID:722-1630627200-1630799999@davelandau.com
SUMMARY:Fort Myers\, FL
DESCRIPTION:@ Laff’s Comedy Cafe
URL:https://davelandau.com/event/fort-myers-fl-2/
CATEGORIES:Dave Appearances
END:VEVENT
BEGIN:VEVENT
DTSTART;VALUE=DATE:20210910
DTEND;VALUE=DATE:20210912
DTSTAMP:20260421T101008
CREATED:20200914T153225Z
LAST-MODIFIED:20210605T131111Z
UID:600-1631232000-1631404799@davelandau.com
SUMMARY:Spokane\, WA
DESCRIPTION:@ Spokane Comedy Club
URL:https://davelandau.com/event/tacoma-wa-2/
CATEGORIES:Dave Appearances
END:VEVENT
BEGIN:VEVENT
DTSTART;VALUE=DATE:20210918
DTEND;VALUE=DATE:20210919
DTSTAMP:20260421T101008
CREATED:20210306T232135Z
LAST-MODIFIED:20210916T035501Z
UID:743-1631923200-1632009599@davelandau.com
SUMMARY:Beaverton\, MI
DESCRIPTION:@ Fundraiser for Michael J Fun Run
URL:https://davelandau.com/event/private-show/
CATEGORIES:Dave Appearances
END:VEVENT
BEGIN:VEVENT
DTSTART;VALUE=DATE:20210924
DTEND;VALUE=DATE:20210926
DTSTAMP:20260421T101008
CREATED:20210520T043557Z
LAST-MODIFIED:20210520T043557Z
UID:820-1632441600-1632614399@davelandau.com
SUMMARY:Albany\, NY
DESCRIPTION:@ The Funnybone
URL:https://davelandau.com/event/albany-ny-2/
CATEGORIES:Dave Appearances
END:VEVENT
END:VCALENDAR