BEGIN:VCALENDAR
VERSION:2.0
PRODID:-//Dave Landau - ECPv6.15.18//NONSGML v1.0//EN
CALSCALE:GREGORIAN
METHOD:PUBLISH
X-ORIGINAL-URL:https://davelandau.com
X-WR-CALDESC:Events for Dave Landau
REFRESH-INTERVAL;VALUE=DURATION:PT1H
X-Robots-Tag:noindex
X-PUBLISHED-TTL:PT1H
BEGIN:VTIMEZONE
TZID:UTC
BEGIN:STANDARD
TZOFFSETFROM:+0000
TZOFFSETTO:+0000
TZNAME:UTC
DTSTART:20200101T000000
END:STANDARD
END:VTIMEZONE
BEGIN:VEVENT
DTSTART;VALUE=DATE:20210813
DTEND;VALUE=DATE:20210815
DTSTAMP:20260421T113525
CREATED:20210424T210841Z
LAST-MODIFIED:20210424T210841Z
UID:797-1628812800-1628985599@davelandau.com
SUMMARY:Tacoma\, WA
DESCRIPTION:@Tacoma Comedy Club
URL:https://davelandau.com/event/tacoma-wa-3/
CATEGORIES:Dave Appearances
END:VEVENT
BEGIN:VEVENT
DTSTART;VALUE=DATE:20210820
DTEND;VALUE=DATE:20210822
DTSTAMP:20260421T113525
CREATED:20210728T010545Z
LAST-MODIFIED:20210728T010545Z
UID:865-1629417600-1629590399@davelandau.com
SUMMARY:Rutherford\, NJ
DESCRIPTION:@ Banana’s
URL:https://davelandau.com/event/rutherford-nj/
CATEGORIES:Dave Appearances
END:VEVENT
BEGIN:VEVENT
DTSTART;VALUE=DATE:20210827
DTEND;VALUE=DATE:20210829
DTSTAMP:20260421T113525
CREATED:20191228T171912Z
LAST-MODIFIED:20210216T170622Z
UID:414-1630022400-1630195199@davelandau.com
SUMMARY:Glendale\, AZ
DESCRIPTION:@ Stir Crazy Comedy Club
URL:https://davelandau.com/event/glendale-az/
CATEGORIES:Dave Appearances
END:VEVENT
END:VCALENDAR