BEGIN:VCALENDAR
VERSION:2.0
PRODID:-//Dave Landau - ECPv6.15.18//NONSGML v1.0//EN
CALSCALE:GREGORIAN
METHOD:PUBLISH
X-ORIGINAL-URL:https://davelandau.com
X-WR-CALDESC:Events for Dave Landau
REFRESH-INTERVAL;VALUE=DURATION:PT1H
X-Robots-Tag:noindex
X-PUBLISHED-TTL:PT1H
BEGIN:VTIMEZONE
TZID:UTC
BEGIN:STANDARD
TZOFFSETFROM:+0000
TZOFFSETTO:+0000
TZNAME:UTC
DTSTART:20200101T000000
END:STANDARD
END:VTIMEZONE
BEGIN:VEVENT
DTSTART;VALUE=DATE:20210602
DTEND;VALUE=DATE:20210603
DTSTAMP:20260421T144700
CREATED:20210410T121617Z
LAST-MODIFIED:20210410T121617Z
UID:783-1622592000-1622678399@davelandau.com
SUMMARY:Houston\, TX
DESCRIPTION:@ The Improv
URL:https://davelandau.com/event/houston-tx/
CATEGORIES:Dave Appearances
END:VEVENT
BEGIN:VEVENT
DTSTART;VALUE=DATE:20210603
DTEND;VALUE=DATE:20210604
DTSTAMP:20260421T144700
CREATED:20210410T121903Z
LAST-MODIFIED:20210410T122110Z
UID:785-1622678400-1622764799@davelandau.com
SUMMARY:Dallas\, TX
DESCRIPTION:@ The Addison Improv
URL:https://davelandau.com/event/dallas-tx/
CATEGORIES:Dave Appearances
END:VEVENT
BEGIN:VEVENT
DTSTART;VALUE=DATE:20210604
DTEND;VALUE=DATE:20210607
DTSTAMP:20260421T144700
CREATED:20210306T225315Z
LAST-MODIFIED:20210410T121259Z
UID:732-1622764800-1623023999@davelandau.com
SUMMARY:Unavailable
DESCRIPTION:@ N/A
URL:https://davelandau.com/event/tulsa-ok-3/
CATEGORIES:Dave Appearances
END:VEVENT
BEGIN:VEVENT
DTSTART;VALUE=DATE:20210611
DTEND;VALUE=DATE:20210613
DTSTAMP:20260421T144700
CREATED:20210424T210143Z
LAST-MODIFIED:20210424T210143Z
UID:793-1623369600-1623542399@davelandau.com
SUMMARY:Unavailable
DESCRIPTION:
URL:https://davelandau.com/event/unavailable-3/
CATEGORIES:Dave Appearances
END:VEVENT
BEGIN:VEVENT
DTSTART;VALUE=DATE:20210618
DTEND;VALUE=DATE:20210620
DTSTAMP:20260421T144700
CREATED:20210306T230543Z
LAST-MODIFIED:20210306T230623Z
UID:736-1623974400-1624147199@davelandau.com
SUMMARY:Waterford\, MI
DESCRIPTION:@ One Night Stan’s
URL:https://davelandau.com/event/waterford-mi-3/
CATEGORIES:Dave Appearances
END:VEVENT
BEGIN:VEVENT
DTSTART;VALUE=DATE:20210625
DTEND;VALUE=DATE:20210627
DTSTAMP:20260421T144700
CREATED:20210309T191641Z
LAST-MODIFIED:20210309T191641Z
UID:756-1624579200-1624751999@davelandau.com
SUMMARY:Buffalo\, NY
DESCRIPTION:@ Helium
URL:https://davelandau.com/event/buffalo-ny/
CATEGORIES:Dave Appearances
END:VEVENT
END:VCALENDAR