BEGIN:VCALENDAR
VERSION:2.0
PRODID:-//Dave Landau - ECPv6.15.18//NONSGML v1.0//EN
CALSCALE:GREGORIAN
METHOD:PUBLISH
X-ORIGINAL-URL:https://davelandau.com
X-WR-CALDESC:Events for Dave Landau
REFRESH-INTERVAL;VALUE=DURATION:PT1H
X-Robots-Tag:noindex
X-PUBLISHED-TTL:PT1H
BEGIN:VTIMEZONE
TZID:UTC
BEGIN:STANDARD
TZOFFSETFROM:+0000
TZOFFSETTO:+0000
TZNAME:UTC
DTSTART:20200101T000000
END:STANDARD
END:VTIMEZONE
BEGIN:VEVENT
DTSTART;VALUE=DATE:20210402
DTEND;VALUE=DATE:20210404
DTSTAMP:20260423T104619
CREATED:20210316T054313Z
LAST-MODIFIED:20210316T054313Z
UID:762-1617321600-1617494399@davelandau.com
SUMMARY:Springfield\, NJ
DESCRIPTION:@ Comedy Cove
URL:https://davelandau.com/event/springfield-nj-2/
CATEGORIES:Dave Appearances
END:VEVENT
BEGIN:VEVENT
DTSTART;VALUE=DATE:20210415
DTEND;VALUE=DATE:20210418
DTSTAMP:20260423T104619
CREATED:20200929T174748Z
LAST-MODIFIED:20210327T021157Z
UID:617-1618444800-1618703999@davelandau.com
SUMMARY:Port Charlotte\, FL
DESCRIPTION:@Vasani’s
URL:https://davelandau.com/event/port-charlotte-fl-2/
CATEGORIES:Dave Appearances
END:VEVENT
BEGIN:VEVENT
DTSTART;VALUE=DATE:20210423
DTEND;VALUE=DATE:20210425
DTSTAMP:20260423T104619
CREATED:20210414T015206Z
LAST-MODIFIED:20210414T015206Z
UID:787-1619136000-1619308799@davelandau.com
SUMMARY:Cuyahoga Falls\, OH
DESCRIPTION:@ The Funny Stop
URL:https://davelandau.com/event/cuyahoga-falls-oh-4/
CATEGORIES:Dave Appearances
END:VEVENT
BEGIN:VEVENT
DTSTART;VALUE=DATE:20210429
DTEND;VALUE=DATE:20210503
DTSTAMP:20260423T104619
CREATED:20201214T033454Z
LAST-MODIFIED:20201214T033454Z
UID:669-1619654400-1619999999@davelandau.com
SUMMARY:Las Vegas\, NV
DESCRIPTION:Brad Garrett’s Comedy Club @ The MGM Grand
URL:https://davelandau.com/event/las-vegas-nv/
CATEGORIES:Dave Appearances
END:VEVENT
END:VCALENDAR