BEGIN:VCALENDAR
VERSION:2.0
PRODID:-//Dave Landau - ECPv6.15.18//NONSGML v1.0//EN
CALSCALE:GREGORIAN
METHOD:PUBLISH
X-ORIGINAL-URL:https://davelandau.com
X-WR-CALDESC:Events for Dave Landau
REFRESH-INTERVAL;VALUE=DURATION:PT1H
X-Robots-Tag:noindex
X-PUBLISHED-TTL:PT1H
BEGIN:VTIMEZONE
TZID:UTC
BEGIN:STANDARD
TZOFFSETFROM:+0000
TZOFFSETTO:+0000
TZNAME:UTC
DTSTART:20200101T000000
END:STANDARD
END:VTIMEZONE
BEGIN:VEVENT
DTSTART;VALUE=DATE:20210305
DTEND;VALUE=DATE:20210307
DTSTAMP:20260423T141739
CREATED:20200914T153623Z
LAST-MODIFIED:20210204T185043Z
UID:604-1614902400-1615075199@davelandau.com
SUMMARY:Omaha\, NE
DESCRIPTION:@ The Funnybone
URL:https://davelandau.com/event/omaha-ne/
CATEGORIES:Dave Appearances
END:VEVENT
BEGIN:VEVENT
DTSTART;VALUE=DATE:20210311
DTEND;VALUE=DATE:20210314
DTSTAMP:20260423T141739
CREATED:20191228T173230Z
LAST-MODIFIED:20201001T173313Z
UID:428-1615420800-1615679999@davelandau.com
SUMMARY:Royal Oak\, MI
DESCRIPTION:@ Mark Ridley’s Comedy Castle
URL:https://davelandau.com/event/royal-oak-mi-2/
CATEGORIES:Dave Appearances
END:VEVENT
END:VCALENDAR