BEGIN:VCALENDAR
VERSION:2.0
PRODID:-//Dave Landau - ECPv6.15.18//NONSGML v1.0//EN
CALSCALE:GREGORIAN
METHOD:PUBLISH
X-WR-CALNAME:Dave Landau
X-ORIGINAL-URL:https://davelandau.com
X-WR-CALDESC:Events for Dave Landau
REFRESH-INTERVAL;VALUE=DURATION:PT1H
X-Robots-Tag:noindex
X-PUBLISHED-TTL:PT1H
BEGIN:VTIMEZONE
TZID:UTC
BEGIN:STANDARD
TZOFFSETFROM:+0000
TZOFFSETTO:+0000
TZNAME:UTC
DTSTART:20200101T000000
END:STANDARD
END:VTIMEZONE
BEGIN:VEVENT
DTSTART;VALUE=DATE:20210211
DTEND;VALUE=DATE:20210215
DTSTAMP:20260425T105603
CREATED:20201016T045251Z
LAST-MODIFIED:20201016T045251Z
UID:630-1613001600-1613347199@davelandau.com
SUMMARY:Raleigh\, NC
DESCRIPTION:@ Goodnight’s Comedy Club
URL:https://davelandau.com/event/raleigh-nc-2/
CATEGORIES:Dave Appearances
END:VEVENT
BEGIN:VEVENT
DTSTART;VALUE=DATE:20210226
DTEND;VALUE=DATE:20210228
DTSTAMP:20260425T105603
CREATED:20200914T153428Z
LAST-MODIFIED:20210127T172310Z
UID:602-1614297600-1614470399@davelandau.com
SUMMARY:Appleton\, WI
DESCRIPTION:@ Skyline Comedy Club
URL:https://davelandau.com/event/appleton-wi/
CATEGORIES:Dave Appearances
END:VEVENT
END:VCALENDAR