BEGIN:VCALENDAR
VERSION:2.0
PRODID:-//Dave Landau - ECPv6.15.18//NONSGML v1.0//EN
CALSCALE:GREGORIAN
METHOD:PUBLISH
X-WR-CALNAME:Dave Landau
X-ORIGINAL-URL:https://davelandau.com
X-WR-CALDESC:Events for Dave Landau
REFRESH-INTERVAL;VALUE=DURATION:PT1H
X-Robots-Tag:noindex
X-PUBLISHED-TTL:PT1H
BEGIN:VTIMEZONE
TZID:UTC
BEGIN:STANDARD
TZOFFSETFROM:+0000
TZOFFSETTO:+0000
TZNAME:UTC
DTSTART:20200101T000000
END:STANDARD
END:VTIMEZONE
BEGIN:VEVENT
DTSTART;VALUE=DATE:20210122
DTEND;VALUE=DATE:20210124
DTSTAMP:20260425T124245
CREATED:20201214T032723Z
LAST-MODIFIED:20201214T032723Z
UID:667-1611273600-1611446399@davelandau.com
SUMMARY:Atlantic City\, NJ
DESCRIPTION:@ The Celebrity Room at The Claridge
URL:https://davelandau.com/event/atlantic-city-nj/
CATEGORIES:Dave Appearances
END:VEVENT
END:VCALENDAR